Workbook

Sheet Sammanställning
G2: HSS Torsdagscup 2026
G3: Sammanställning
A6: Nr | B6: Rorsman | C6: Båt | D6: Std | E6: Std | J6: Placering i segling nummer | P6: Total | Q6: Deltagit | R6: Total | S6: Plats
D7: SRS | E7: Utrust | F7: 1 | G7: 2 | H7: 3 | I7: 4 | J7: 5 | K7: 6 | L7: 7 | M7: 8 | N7: 9 | O7: 10 | P7: Poäng | Q7: i antal | R7: Poäng
F8: 21/5 | G8: 28/5 | H8: 4/6 | I8: 11/6 | J8: 25/6 | K8: 6/8 | L8: 13/8 | M8: 20/8 | N8: 27/8 | O8: 3/9 | P8: Alla segl | Q8: seglingar | R8: 5 bästa
A9: 1 | B9: Staffan Kerker | C9: 707 | D9: 0.868 | F9: ='Segl 1'!O19 -> 4 | G9: ='Segl 2'!O19 -> 4 | H9: ='Segl 3'!O19 -> 5 | I9: ='Segl 4'!O19 -> 5 | J9: ='Segl 5'!O19 -> 3 | K9: ='Segl 6'!O19 -> 1 | L9: ='Segl 7'!O19 -> 4 | M9: ='Segl 8'!O19 -> 2 | N9: ='Segl 9'!O19 -> 3 | O9: ='Segl 10'!O19 -> 3 | P9: =SUMIF(F9:O9,">0") -> 34 | Q9: 9 | R9: 12 | S9: =IF(R9>0,RANK(R9,R$9:R$21,1),0) -> 3
A10: 2 | B10: Jan-Erik Jonsson | C10: 707 | D10: 0.868 | F10: ='Segl 1'!O20 -> 5 | G10: ='Segl 2'!O20 -> 2 | H10: ='Segl 3'!O20 -> 3 | I10: ='Segl 4'!O20 -> 1 | J10: ='Segl 5'!O20 -> 4 | K10: ='Segl 6'!O20 -> 4 | L10: ='Segl 7'!O20 -> 3 | M10: ='Segl 8'!O20 -> 4 | N10: ='Segl 9'!O20 -> 6 | O10: ='Segl 10'!O20 -> 5 | P10: =SUMIF(F10:O10,">0") -> 37 | Q10: 8 | R10: 13 | S10: =IF(R10>0,RANK(R10,R$9:R$21,1),0) -> 4
A11: 3 | B11: Tobjörn Herbertsson | C11: 707 | D11: 0.868 | F11: ='Segl 1'!O21 -> 1 | G11: ='Segl 2'!O21 -> 1 | H11: ='Segl 3'!O21 -> 1 | I11: ='Segl 4'!O21 -> 5 | J11: ='Segl 5'!O21 -> 1 | K11: ='Segl 6'!O21 -> 4 | L11: ='Segl 7'!O21 -> 2 | M11: ='Segl 8'!O21 -> 1 | N11: ='Segl 9'!O21 -> 1 | O11: ='Segl 10'!O21 -> 1 | P11: =SUMIF(F11:O11,">0") -> 18 | Q11: 8 | R11: 5 | S11: =IF(R11>0,RANK(R11,R$9:R$21,1),0) -> 1
A12: 4 | B12: Urban Thim | C12: 707U | D12: 0.868 | F12: ='Segl 1'!O22 -> 3 | G12: ='Segl 2'!O22 -> 5 | H12: ='Segl 3'!O22 -> 4 | I12: ='Segl 4'!O22 -> 2 | J12: ='Segl 5'!O22 -> 2 | K12: ='Segl 6'!O22 -> 4 | L12: ='Segl 7'!O22 -> 1 | M12: ='Segl 8'!O22 -> 3 | N12: ='Segl 9'!O22 -> 2 | O12: ='Segl 10'!O22 -> 2 | P12: =SUMIF(F12:O12,">0") -> 28 | Q12: 8 | R12: 9 | S12: =IF(R12>0,RANK(R12,R$9:R$21,1),0) -> 2
A13: 5 | B13: Lars Berglund | C13: Maxi Magic | D13: 0.852 | F13: ='Segl 1'!O23 -> 6 | G13: ='Segl 2'!O23 -> 4 | H13: ='Segl 3'!O23 -> 2 | I13: ='Segl 4'!O23 -> 4 | J13: ='Segl 5'!O23 -> 5 | K13: ='Segl 6'!O23 -> 3 | L13: ='Segl 7'!O23 -> 5 | M13: ='Segl 8'!O23 -> 5 | N13: ='Segl 9'!O23 -> 4 | O13: ='Segl 10'!O23 -> 4 | P13: =SUMIF(F13:O13,">0") -> 42 | Q13: 10 | R13: 17 | S13: =IF(R13>0,RANK(R13,R$9:R$21,1),0) -> 5
A14: 6 | B14: Ingmar Olsson | C14: Avanti | D14: 0.745 | F14: ='Segl 1'!O24 -> 7 | G14: ='Segl 2'!O24 -> 5 | H14: ='Segl 3'!O24 -> 7 | I14: ='Segl 4'!O24 -> 5 | J14: ='Segl 5'!O24 -> 7 | K14: ='Segl 6'!O24 -> 4 | L14: ='Segl 7'!O24 -> 7 | M14: ='Segl 8'!O24 -> 7 | N14: ='Segl 9'!O24 -> 6 | O14: ='Segl 10'!O24 -> 6 | P14: =SUMIF(F14:O14,">0") -> 61 | Q14: 2 | R14: 35 | S14: =IF(R14>0,RANK(R14,R$9:R$21,1),0) -> 8
A15: 7 | B15: Erik Andersson | C15: Elan 210 | D15: 0.81 | F15: ='Segl 1'!O25 -> 2 | G15: ='Segl 2'!O25 -> 3 | H15: ='Segl 3'!O25 -> 7 | I15: ='Segl 4'!O25 -> 3 | J15: ='Segl 5'!O25 -> 6 | K15: ='Segl 6'!O25 -> 4 | L15: ='Segl 7'!O25 -> 7 | M15: ='Segl 8'!O25 -> 7 | N15: ='Segl 9'!O25 -> 6 | O15: ='Segl 10'!O25 -> 6 | P15: =SUMIF(F15:O15,">0") -> 51 | Q15: 4 | R15: 21 | S15: =IF(R15>0,RANK(R15,R$9:R$21,1),0) -> 6
A16: 8 | B16: Magnus Nilsson | C16: Viggen | D16: 0.766 | F16: ='Segl 1'!O26 -> 8 | G16: ='Segl 2'!O26 -> 5 | H16: ='Segl 3'!O26 -> 6 | I16: ='Segl 4'!O26 -> 5 | J16: ='Segl 5'!O26 -> 8 | K16: ='Segl 6'!O26 -> 2 | L16: ='Segl 7'!O26 -> 6 | M16: ='Segl 8'!O26 -> 6 | N16: ='Segl 9'!O26 -> 5 | O16: ='Segl 10'!O26 -> 6 | P16: =SUMIF(F16:O16,">0") -> 57 | Q16: 5 | R16: 25 | S16: =IF(R16>0,RANK(R16,R$9:R$21,1),0) -> 7
A17: 9 | F17: ='Segl 1'!O27 -> -5 | G17: ='Segl 2'!O27 -> -9 | H17: ='Segl 3'!O27 -> -6 | I17: ='Segl 4'!O27 -> -8 | J17: ='Segl 5'!O27 -> -5 | K17: ='Segl 6'!O27 -> -9 | L17: ='Segl 7'!O27 -> -6 | M17: ='Segl 8'!O27 -> -6 | N17: ='Segl 9'!O27 -> -7 | O17: ='Segl 10'!O27 -> 0 | P17: =SUMIF(F17:O17,">0") -> 0 | S17: =IF(R17>0,RANK(R17,R$9:R$21,1),0) -> 0
A18: 10 | F18: ='Segl 1'!O28 -> -5 | G18: ='Segl 2'!O28 -> -9 | H18: ='Segl 3'!O28 -> -6 | I18: ='Segl 4'!O28 -> -8 | J18: ='Segl 5'!O28 -> -5 | K18: ='Segl 6'!O28 -> -9 | L18: ='Segl 7'!O28 -> -6 | M18: ='Segl 8'!O28 -> -6 | N18: ='Segl 9'!O28 -> -7 | O18: ='Segl 10'!O28 -> -7 | P18: =SUMIF(F18:O18,">0") -> 0 | S18: =IF(R18>0,RANK(R18,R$9:R$21,1),0) -> 0
A19: 11 | F19: ='Segl 1'!O29 -> -5 | G19: ='Segl 2'!O29 -> -9 | H19: ='Segl 3'!O29 -> -6 | I19: ='Segl 4'!O29 -> -8 | J19: ='Segl 5'!O29 -> -5 | K19: ='Segl 6'!O29 -> -9 | L19: ='Segl 7'!O29 -> -6 | M19: ='Segl 8'!O29 -> -6 | N19: ='Segl 9'!O29 -> -7 | O19: ='Segl 10'!O29 -> -7 | P19: =SUMIF(F19:O19,">0") -> 0 | S19: =IF(R19>0,RANK(R19,R$9:R$21,1),0) -> 0
A20: 12 | F20: ='Segl 1'!O30 -> -5 | G20: ='Segl 2'!O30 -> -9 | H20: ='Segl 3'!O30 -> -6 | I20: ='Segl 4'!O30 -> -8 | J20: ='Segl 5'!O30 -> -5 | K20: ='Segl 6'!O30 -> -9 | L20: ='Segl 7'!O30 -> -6 | M20: ='Segl 8'!O30 -> -6 | N20: ='Segl 9'!O30 -> -7 | O20: ='Segl 10'!O30 -> -7 | P20: =SUMIF(F20:O20,">0") -> 0 | S20: =IF(R20>0,RANK(R20,R$9:R$21,1),0) -> 0
A21: 13 | F21: ='Segl 1'!O31 -> -5 | G21: ='Segl 2'!O31 -> -9 | H21: ='Segl 3'!O31 -> 0 | I21: ='Segl 4'!O31 -> -8 | J21: ='Segl 5'!O31 -> -5 | K21: ='Segl 6'!O31 -> -9 | L21: ='Segl 7'!O31 -> -6 | M21: ='Segl 8'!O31 -> -6 | N21: ='Segl 9'!O31 -> -7 | O21: ='Segl 10'!O31 -> -7 | P21: =SUMIF(F21:O21,">0") -> 0 | S21: =IF(R21>0,RANK(R21,R$9:R$21,1),0) -> 0
A23: Bästa placering = 1 poäng, Andra plats = 2 poäng, etc | G23: De fem bästa seglingarna räknas vid slutplacering. OBS: Vid mindre än fem seglingsresultat räknas
A24: Röda placeringar = Ej deltagit = Sistaplats + 1 straffpoäng | G24: dock de högsta placeringarna för saknade seglingar. Dvs att de bästa verkliga resultaten plus de
G25: sämsta av de röda placeringarna till dess att fem resultat uppnåtts.
B26: = Resultat räknade i totalplacering | G26: Vid lika slutpoäng räknas flest antal 1:a platser, 2:a platser; 3:e platser, osv tills skillnad uppstår.
G27: Om det efter detta fortfarande är lika mellan två eller fler båtar räknas det innebördes resultatet
G28: i den sista (10:e) seglingen, även om detta resultat inte utnyttjats i totalpoängen.

Sheet Protokoll till pärmen
G2: =Sammanställning!G2 -> HSS Torsdagscup 2026
G3: Protokoll till pärmen
A5: Segling nummer: | E5: Aktuell bana: | K5: Vindförhållanden
A6: Tävlingsledare: | E6: Banlängd: | I6: (Nm) | K6: Riktning
A7: Datum: | E7: Möjliga | G7: Startlinje boj: | I7: A | K7: Styrka | O7: (m/s)
A8: Starttid: | E8: rundningsmärken | K8: Anm
K9: Fart och seglingstid
A10: Segling genomförd | G10: Björköarna: | I10: D | L10: Fart | M10: (knop) | N10: Tid | O10: (min)
G11: Kanotklubben | I11: E | L11: Verkl | M11: SRS | N11: Verkl | O11: SRS
G12: Evedalsviken Öst | I12: F | K12: Antagen
G13: Söder Appelö | I13: G | K13: Aktuell
A15: Nr | B15: Rorsman | C15: Gast 1 | D15: Gast 2 | E15: Båt | F15: Akt | G15: Utr | H15: Starttid | I15: Målgång | J15: Seglad | K15: Korri- | L15: Tids | M15: Fart | N15: Fart | O15: Plac
F16: SRS | G16: Korr | J16: Tid | K16: gerad | L16: Diff | M16: Medel | N16: Medel
K17: Tid | M17: Verkl | N17: SRS
G18: SGF | H18: (hh:mm:ss) | I18: (hh:mm:ss) | J18: (sek) | K18: (sek) | L18: (sek) | M18: (knop) | N18: (knop)
A19: 1
A20: 2
A21: 3
A22: 4
A23: 5
A24: 6
A25: 7
A26: 8
A27: 9
A28: 10
A29: 11
A30: 12
A31: 13

Sheet Segl 1
G2: =Sammanställning!G2 -> HSS Torsdagscup 2026
G3: Seglingsprotokoll 1
A5: Segling nummer: | C5: 1 | E5: Aktuell bana: | H5: A-D-F-D-E-A | K5: Vindförhållanden
A6: Tävlingsledare: | C6: Torbjörn Herbertsson | E6: Banlängd: | H6: 2.19 | I6: (Nm) | K6: Riktning | L6: NV
A7: Datum: | C7: 46163 | E7: Möjliga | G7: Startlinje boj: | I7: A | K7: Styrka | L7: 2-6 | O7: (m/s)
A8: Starttid: | C8: 0.79513889 | E8: rundningsmärken | K8: Anm | L8: Oväder/Regn/Åska sedan fint
K9: Fart och seglingstid
A10: Segling genomförd | C10: JA | G10: Björköarna: | I10: D | L10: Fart | M10: (knop) | N10: Tid | O10: (min)
G11: Kanotklubben | I11: E | L11: Verkl | M11: SRS | N11: Verkl | O11: SRS
G12: Evedalviken Öst | I12: F | K12: Antagen | L12: =IF(COUNTA($F$19:$F$31)>0,M12*AVERAGE($F$19:$F$31),0) -> 0 | N12: =IF(COUNTA($F$19:$F$31)>0,O12/AVERAGE($F$19:$F$31),0) -> 0 | O12: =IF(ISBLANK(M12),0,H6/M12*60) -> 0
G13: Söder Appelö | I13: G | K13: Aktuell | L13: =IF(SUM(M19:M31)>0,SUMIF(M19:M31,">0",M19:M31)/COUNTIF(M19:M31,">0"),0) -> 2.8767338 | M13: =IF(SUM(M19:M31)>0,SUMIF(N19:N31,">0",N19:N31)/COUNTIF(N19:N31,">0"),0) -> 3.4188696 | N13: =IF(SUM(M19:M31)>0,SUMIF(J19:J31,">0",J19:J31)/COUNTIF(J19:J31,">0")/60,0) -> 46.316667 | O13: =IF(SUM(M19:M31)>0,SUMIF(K19:K31,">0",K19:K31)/COUNTIF(K19:K31,">0")/60,0) -> 38.70051
A15: Nr | B15: Rorsman | C15: Gast 1 | D15: Gast 2 | E15: Båt | F15: Akt | G15: Utr | H15: Starttid | I15: Målgång | J15: Seglad | K15: Korri- | L15: Tids | M15: Fart | N15: Fart | O15: Plac
F16: SRS | G16: Korr | J16: Tid | K16: gerad | L16: Diff | M16: Medel | N16: Medel
K17: Tid | M17: Verkl | N17: SRS
G18: SGF | H18: (hh:mm:ss) | I18: (hh:mm:ss) | J18: (sek) | K18: (sek) | L18: (sek) | M18: (knop) | N18: (knop)
A19: 1 | B19: =Sammanställning!B9 -> Staffan Kerker | C19: Rickard Magnusson | E19: =Sammanställning!C9 -> 707 | F19: 0.868 | G19: 7 | H19: 0.8 | I19: 0.83157407 | J19: =IF(I19>0,(I19-H19)*24*3600,0) -> 2728 | K19: =J19*F19 -> 2367.904 | L19: {=K19-MIN(IF(K19:K31>0,(K19:K31)))} -> 325.5 | M19: =IF(J19>0,$H$6/J19*3600,0) -> 2.8900293 | N19: =IF(K19>0,M19/F19,0) -> 3.3295269 | O19: =RANK(K19,$K$19:$K$31,1)-COUNTIF($K$19:$K$31,0) -> 4
A20: 2 | B20: =Sammanställning!B10 -> Jan-Erik Jonsson | C20: Rosita Alkrot | E20: =Sammanställning!C10 -> 707 | F20: 0.868 | G20: 7 | H20: 0.8 | I20: 0.83171296 | J20: =IF(I20>0,(I20-H20)*24*3600,0) -> 2740 | K20: =J20*F20 -> 2378.32 | L20: {=K20-MIN(IF(K19:K31>0,(K19:K31)))} -> 335.916 | M20: =IF(J20>0,$H$6/J20*3600,0) -> 2.8773723 | N20: =IF(K20>0,M20/F20,0) -> 3.314945 | O20: =RANK(K20,$K$19:$K$31,1)-COUNTIF($K$19:$K$31,0) -> 5
A21: 3 | B21: =Sammanställning!B11 -> Tobjörn Herbertsson | C21: Håkan Stödberg | E21: =Sammanställning!C11 -> 707 | F21: 0.868 | G21: 7 | H21: 0.8 | I21: 0.8272338 | J21: =IF(I21>0,(I21-H21)*24*3600,0) -> 2353 | K21: =J21*F21 -> 2042.404 | L21: {=K21-MIN(IF(K19:K31>0,(K19:K31)))} -> 0 | M21: =IF(J21>0,$H$6/J21*3600,0) -> 3.3506162 | N21: =IF(K21>0,M21/F21,0) -> 3.860157 | O21: =RANK(K21,$K$19:$K$31,1)-COUNTIF($K$19:$K$31,0) -> 1
A22: 4 | B22: =Sammanställning!B12 -> Urban Thim | C22: Anders Nilsson | E22: =Sammanställning!C12 -> 707U | F22: 0.868 | G22: 7 | H22: 0.8 | I22: 0.82927083 | J22: =IF(I22>0,(I22-H22)*24*3600,0) -> 2529 | K22: =J22*F22 -> 2195.172 | L22: {=K22-MIN(IF(K19:K31>0,(K19:K31)))} -> 152.768 | M22: =IF(J22>0,$H$6/J22*3600,0) -> 3.1174377 | N22: =IF(K22>0,M22/F22,0) -> 3.5915181 | O22: =RANK(K22,$K$19:$K$31,1)-COUNTIF($K$19:$K$31,0) -> 3
A23: 5 | B23: =Sammanställning!B13 -> Lars Berglund | C23: Claes Johansson | E23: =Sammanställning!C13 -> Maxi Magic | F23: 0.852 | G23: 6 | H23: 0.79930556 | I23: 0.83364583 | J23: =IF(I23>0,(I23-H23)*24*3600,0) -> 2967 | K23: =J23*F23 -> 2527.884 | L23: {=K23-MIN(IF(K19:K31>0,(K19:K31)))} -> 485.48 | M23: =IF(J23>0,$H$6/J23*3600,0) -> 2.6572295 | N23: =IF(K23>0,M23/F23,0) -> 3.118814 | O23: =RANK(K23,$K$19:$K$31,1)-COUNTIF($K$19:$K$31,0) -> 6
A24: 6 | B24: =Sammanställning!B14 -> Ingmar Olsson | C24: Thomas Peterson | E24: =Sammanställning!C14 -> Avanti | F24: 0.745 | G24: 0 | H24: 0.79513889 | I24: 0.8356713 | J24: =IF(I24>0,(I24-H24)*24*3600,0) -> 3502 | K24: =J24*F24 -> 2608.99 | L24: {=K24-MIN(IF(K19:K31>0,(K19:K31)))} -> 566.586 | M24: =IF(J24>0,$H$6/J24*3600,0) -> 2.251285 | N24: =IF(K24>0,M24/F24,0) -> 3.021859 | O24: =RANK(K24,$K$19:$K$31,1)-COUNTIF($K$19:$K$31,0) -> 7
A25: 7 | B25: =Sammanställning!B15 -> Erik Andersson | C25: - | E25: =Sammanställning!C15 -> Elan 210 | F25: 0.81 | G25: 3 | H25: 0.79722222 | I25: 0.82770833 | J25: =IF(I25>0,(I25-H25)*24*3600,0) -> 2634 | K25: =J25*F25 -> 2133.54 | L25: {=K25-MIN(IF(K19:K31>0,(K19:K31)))} -> 91.136 | M25: =IF(J25>0,$H$6/J25*3600,0) -> 2.9931663 | N25: =IF(K25>0,M25/F25,0) -> 3.695267 | O25: =RANK(K25,$K$19:$K$31,1)-COUNTIF($K$19:$K$31,0) -> 2
A26: 8 | B26: =Sammanställning!B16 -> Magnus Nilsson | E26: =Sammanställning!C16 -> Viggen | H26: DNS | J26: =IF(I26>0,(I26-H26)*24*3600,0) -> 0 | K26: =J26*F26 -> 0 | L26: {=K26-MIN(IF(K19:K31>0,(K19:K31)))} -> -2042.404 | M26: =IF(J26>0,$H$6/J26*3600,0) -> 0 | N26: =IF(K26>0,M26/F26,0) -> 0 | O26: 8
A27: 9 | B27: =Sammanställning!B17 -> 0 | E27: =Sammanställning!C17 -> 0 | J27: =IF(I27>0,(I27-H27)*24*3600,0) -> 0 | K27: =J27*F27 -> 0 | L27: {=K27-MIN(IF(K19:K31>0,(K19:K31)))} -> -2042.404 | M27: =IF(J27>0,$H$6/J27*3600,0) -> 0 | N27: =IF(K27>0,M27/F27,0) -> 0 | O27: =RANK(K27,$K$19:$K$31,1)-COUNTIF($K$19:$K$31,0) -> -5
A28: 10 | B28: =Sammanställning!B18 -> 0 | E28: =Sammanställning!C18 -> 0 | J28: =IF(I28>0,(I28-H28)*24*3600,0) -> 0 | K28: =J28*F28 -> 0 | L28: {=K28-MIN(IF(K19:K31>0,(K19:K31)))} -> -2042.404 | M28: =IF(J28>0,$H$6/J28*3600,0) -> 0 | N28: =IF(K28>0,M28/F28,0) -> 0 | O28: =RANK(K28,$K$19:$K$31,1)-COUNTIF($K$19:$K$31,0) -> -5
A29: 11 | B29: =Sammanställning!B19 -> 0 | E29: =Sammanställning!C19 -> 0 | J29: =IF(I29>0,(I29-H29)*24*3600,0) -> 0 | K29: =J29*F29 -> 0 | L29: {=K29-MIN(IF(K19:K31>0,(K19:K31)))} -> -2042.404 | M29: =IF(J29>0,$H$6/J29*3600,0) -> 0 | N29: =IF(K29>0,M29/F29,0) -> 0 | O29: =RANK(K29,$K$19:$K$31,1)-COUNTIF($K$19:$K$31,0) -> -5
A30: 12 | B30: =Sammanställning!B20 -> 0 | E30: =Sammanställning!C20 -> 0 | J30: =IF(I30>0,(I30-H30)*24*3600,0) -> 0 | K30: =J30*F30 -> 0 | L30: {=K30-MIN(IF(K19:K31>0,(K19:K31)))} -> -2042.404 | M30: =IF(J30>0,$H$6/J30*3600,0) -> 0 | N30: =IF(K30>0,M30/F30,0) -> 0 | O30: =RANK(K30,$K$19:$K$31,1)-COUNTIF($K$19:$K$31,0) -> -5
A31: 13 | B31: =Sammanställning!B21 -> 0 | E31: =Sammanställning!C21 -> 0 | J31: =IF(I31>0,(I31-H31)*24*3600,0) -> 0 | K31: =J31*F31 -> 0 | L31: {=K31-MIN(IF(K19:K31>0,(K19:K31)))} -> -2042.404 | M31: =IF(J31>0,$H$6/J31*3600,0) -> 0 | N31: =IF(K31>0,M31/F31,0) -> 0 | O31: =RANK(K31,$K$19:$K$31,1)-COUNTIF($K$19:$K$31,0) -> -5

Sheet Segl 2
G2: =Sammanställning!G2 -> HSS Torsdagscup 2026
G3: Seglingsprotokoll 2
A5: Segling nummer: | C5: 2 | E5: Aktuell bana: | H5: A-D-G-F-D-E-A-E-A | K5: Vindförhållanden
A6: Tävlingsledare: | C6: Staffan Kerker | E6: Banlängd: | H6: 3.86 | I6: (Nm) | K6: Riktning | L6: N
A7: Datum: | C7: 46170 | E7: Möjliga | G7: Startlinje boj: | I7: A | K7: Styrka | L7: 3-7 | O7: (m/s)
A8: Starttid: | C8: 0.76736111 | E8: rundningsmärken | K8: Anm | L8: Sol!
K9: Fart och seglingstid
A10: Segling genomförd | C10: JA | G10: Björköarna: | I10: D | L10: Fart | M10: (knop) | N10: Tid | O10: (min)
G11: Kanotklubben | I11: E | L11: Verkl | M11: LYS | N11: Verkl | O11: LYS
G12: Evedalviken Öst | I12: F | K12: Antagen | L12: =IF(COUNTA($F$19:$F$31)>0,M12*AVERAGE($F$19:$F$31),0) -> 0 | N12: =IF(COUNTA($F$19:$F$31)>0,O12/AVERAGE($F$19:$F$31),0) -> 0 | O12: =IF(ISBLANK(M12),0,H6/M12*60) -> 0
G13: Söder Appelö | I13: G | K13: Aktuell | L13: =IF(SUM(M19:M31)>0,SUMIF(M19:M31,">0",M19:M31)/COUNTIF(M19:M31,">0"),0) -> 4.169936 | M13: =IF(SUM(M19:M31)>0,SUMIF(N19:N31,">0",N19:N31)/COUNTIF(N19:N31,">0"),0) -> 4.9086762 | N13: =IF(SUM(M19:M31)>0,SUMIF(J19:J31,">0",J19:J31)/COUNTIF(J19:J31,">0")/60,0) -> 55.805556 | O13: =IF(SUM(M19:M31)>0,SUMIF(K19:K31,">0",K19:K31)/COUNTIF(K19:K31,">0")/60,0) -> 47.262144
A15: Nr | B15: Rorsman | C15: Gast 1 | D15: Gast 2 | E15: Båt | F15: Akt | G15: Utr | H15: Starttid | I15: Målgång | J15: Seglad | K15: Korri- | L15: Tids | M15: Fart | N15: Fart | O15: Plac
F16: SRS | G16: Korr | J16: Tid | K16: gerad | L16: Diff | M16: Medel | N16: Medel
K17: Tid | M17: Verkl | N17: LYS
G18: SGF | H18: (hh:mm:ss) | I18: (hh:mm:ss) | J18: (sek) | K18: (sek) | L18: (sek) | M18: (knop) | N18: (knop)
A19: 1 | B19: =Sammanställning!B9 -> Staffan Kerker | C19: Rcikard Magnusson | E19: =Sammanställning!C9 -> 707 | F19: 0.891 | H19: 0.76736111 | J19: =IF(I19>0,(I19-H19)*24*3600,0) -> 0 | K19: =J19*F19 -> 0 | L19: {=K19-MIN(IF(K19:K31>0,(K19:K31)))} -> -2680.384 | M19: =IF(J19>0,$H$6/J19*3600,0) -> 0 | N19: =IF(K19>0,M19/F19,0) -> 0 | O19: 4 | P19: DNF
A20: 2 | B20: =Sammanställning!B10 -> Jan-Erik Jonsson | C20: Rosita Alkrot | E20: =Sammanställning!C10 -> 707 | F20: 0.868 | H20: 0.76736111 | I20: 0.80560185 | J20: =IF(I20>0,(I20-H20)*24*3600,0) -> 3304 | K20: =J20*F20 -> 2867.872 | L20: {=K20-MIN(IF(K19:K31>0,(K19:K31)))} -> 187.488 | M20: =IF(J20>0,$H$6/J20*3600,0) -> 4.2058111 | N20: =IF(K20>0,M20/F20,0) -> 4.8454045 | O20: =RANK(K20,$K$19:$K$31,1)-COUNTIF($K$19:$K$31,0) -> 2
A21: 3 | B21: =Sammanställning!B11 -> Tobjörn Herbertsson | C21: Håkan Stödberg | E21: =Sammanställning!C11 -> 707 | F21: 0.868 | H21: 0.76736111 | I21: 0.80310185 | J21: =IF(I21>0,(I21-H21)*24*3600,0) -> 3088 | K21: =J21*F21 -> 2680.384 | L21: {=K21-MIN(IF(K19:K31>0,(K19:K31)))} -> 0 | M21: =IF(J21>0,$H$6/J21*3600,0) -> 4.5 | N21: =IF(K21>0,M21/F21,0) -> 5.1843318 | O21: =RANK(K21,$K$19:$K$31,1)-COUNTIF($K$19:$K$31,0) -> 1
A22: 4 | B22: =Sammanställning!B12 -> Urban Thim | E22: =Sammanställning!C12 -> 707U | H22: DNS | J22: =IF(I22>0,(I22-H22)*24*3600,0) -> 0 | K22: =J22*F22 -> 0 | L22: {=K22-MIN(IF(K19:K31>0,(K19:K31)))} -> -2680.384 | M22: =IF(J22>0,$H$6/J22*3600,0) -> 0 | N22: =IF(K22>0,M22/F22,0) -> 0 | O22: 5
A23: 5 | B23: =Sammanställning!B13 -> Lars Berglund | C23: Claes Johansson | E23: =Sammanställning!C13 -> Maxi Magic | F23: 0.852 | H23: 0.76736111 | J23: =IF(I23>0,(I23-H23)*24*3600,0) -> 0 | K23: =J23*F23 -> 0 | L23: {=K23-MIN(IF(K19:K31>0,(K19:K31)))} -> -2680.384 | M23: =IF(J23>0,$H$6/J23*3600,0) -> 0 | N23: =IF(K23>0,M23/F23,0) -> 0 | O23: 4 | P23: DNF
A24: 6 | B24: =Sammanställning!B14 -> Ingmar Olsson | E24: =Sammanställning!C14 -> Avanti | H24: DNS | J24: =IF(I24>0,(I24-H24)*24*3600,0) -> 0 | K24: =J24*F24 -> 0 | L24: {=K24-MIN(IF(K19:K31>0,(K19:K31)))} -> -2680.384 | M24: =IF(J24>0,$H$6/J24*3600,0) -> 0 | N24: =IF(K24>0,M24/F24,0) -> 0 | O24: 5
A25: 7 | B25: =Sammanställning!B15 -> Erik Andersson | E25: =Sammanställning!C15 -> Elan 210 | F25: 0.81 | H25: 0.76736111 | I25: 0.8096412 | J25: =IF(I25>0,(I25-H25)*24*3600,0) -> 3653 | K25: =J25*F25 -> 2958.93 | L25: {=K25-MIN(IF(K19:K31>0,(K19:K31)))} -> 278.546 | M25: =IF(J25>0,$H$6/J25*3600,0) -> 3.8039967 | N25: =IF(K25>0,M25/F25,0) -> 4.6962922 | O25: =RANK(K25,$K$19:$K$31,1)-COUNTIF($K$19:$K$31,0) -> 3
A26: 8 | B26: =Sammanställning!B16 -> Magnus Nilsson | E26: =Sammanställning!C16 -> Viggen | H26: DNS | J26: =IF(I26>0,(I26-H26)*24*3600,0) -> 0 | K26: =J26*F26 -> 0 | L26: {=K26-MIN(IF(K19:K31>0,(K19:K31)))} -> -2680.384 | M26: =IF(J26>0,$H$6/J26*3600,0) -> 0 | N26: =IF(K26>0,M26/F26,0) -> 0 | O26: 5
A27: 9 | B27: =Sammanställning!B17 -> 0 | E27: =Sammanställning!C17 -> 0 | J27: =IF(I27>0,(I27-H27)*24*3600,0) -> 0 | K27: =J27*F27 -> 0 | L27: {=K27-MIN(IF(K19:K31>0,(K19:K31)))} -> -2680.384 | M27: =IF(J27>0,$H$6/J27*3600,0) -> 0 | N27: =IF(K27>0,M27/F27,0) -> 0 | O27: =RANK(K27,$K$19:$K$31,1)-COUNTIF($K$19:$K$31,0) -> -9
A28: 10 | B28: =Sammanställning!B18 -> 0 | E28: =Sammanställning!C18 -> 0 | J28: =IF(I28>0,(I28-H28)*24*3600,0) -> 0 | K28: =J28*F28 -> 0 | L28: {=K28-MIN(IF(K19:K31>0,(K19:K31)))} -> -2680.384 | M28: =IF(J28>0,$H$6/J28*3600,0) -> 0 | N28: =IF(K28>0,M28/F28,0) -> 0 | O28: =RANK(K28,$K$19:$K$31,1)-COUNTIF($K$19:$K$31,0) -> -9
A29: 11 | B29: =Sammanställning!B19 -> 0 | E29: =Sammanställning!C19 -> 0 | J29: =IF(I29>0,(I29-H29)*24*3600,0) -> 0 | K29: =J29*F29 -> 0 | L29: {=K29-MIN(IF(K19:K31>0,(K19:K31)))} -> -2680.384 | M29: =IF(J29>0,$H$6/J29*3600,0) -> 0 | N29: =IF(K29>0,M29/F29,0) -> 0 | O29: =RANK(K29,$K$19:$K$31,1)-COUNTIF($K$19:$K$31,0) -> -9
A30: 12 | B30: =Sammanställning!B20 -> 0 | E30: =Sammanställning!C20 -> 0 | J30: =IF(I30>0,(I30-H30)*24*3600,0) -> 0 | K30: =J30*F30 -> 0 | L30: {=K30-MIN(IF(K19:K31>0,(K19:K31)))} -> -2680.384 | M30: =IF(J30>0,$H$6/J30*3600,0) -> 0 | N30: =IF(K30>0,M30/F30,0) -> 0 | O30: =RANK(K30,$K$19:$K$31,1)-COUNTIF($K$19:$K$31,0) -> -9
A31: 13 | B31: =Sammanställning!B21 -> 0 | E31: =Sammanställning!C21 -> 0 | J31: =IF(I31>0,(I31-H31)*24*3600,0) -> 0 | K31: =J31*F31 -> 0 | L31: {=K31-MIN(IF(K19:K31>0,(K19:K31)))} -> -2680.384 | M31: =IF(J31>0,$H$6/J31*3600,0) -> 0 | N31: =IF(K31>0,M31/F31,0) -> 0 | O31: =RANK(K31,$K$19:$K$31,1)-COUNTIF($K$19:$K$31,0) -> -9

Sheet Segl 3
G2: =Sammanställning!G2 -> HSS Torsdagscup 2026
G3: Seglingsprotokoll 3
A5: Segling nummer: | C5: 3 | E5: Aktuell bana: | H5: A-E-F-D-G-E-F-A | K5: Vindförhållanden
A6: Tävlingsledare: | C6: Jan-Erik Jonsson | E6: Banlängd: | H6: 4.66 | I6: (Nm) | K6: Riktning | L6: S
A7: Datum: | C7: 46177 | E7: Möjliga | G7: Startlinje boj: | I7: A | K7: Styrka | L7: 5-10 | O7: (m/s)
A8: Starttid: | C8: 0.76388889 | E8: rundningsmärken | K8: Anm
K9: Fart och seglingstid
A10: Segling genomförd | G10: Björköarna: | I10: D | L10: Fart | M10: (knop) | N10: Tid | O10: (min)
G11: Kanotklubben | I11: E | L11: Verkl | M11: LYS | N11: Verkl | O11: LYS
G12: Evedalviken Öst | I12: F | K12: Antagen | L12: =IF(COUNTA($F$19:$F$31)>0,M12*AVERAGE($F$19:$F$31),0) -> 0 | N12: =IF(COUNTA($F$19:$F$31)>0,O12/AVERAGE($F$19:$F$31),0) -> 0 | O12: =IF(ISBLANK(M12),0,H6/M12*60) -> 0
G13: Söder Appelö | I13: G | K13: Aktuell | L13: =IF(SUM(M19:M31)>0,SUMIF(M19:M31,">0",M19:M31)/COUNTIF(M19:M31,">0"),0) -> 6.2169493 | M13: =IF(SUM(M19:M31)>0,SUMIF(N19:N31,">0",N19:N31)/COUNTIF(N19:N31,">0"),0) -> 7.3169155 | N13: =IF(SUM(M19:M31)>0,SUMIF(J19:J31,">0",J19:J31)/COUNTIF(J19:J31,">0")/60,0) -> 45.291667 | O13: =IF(SUM(M19:M31)>0,SUMIF(K19:K31,">0",K19:K31)/COUNTIF(K19:K31,">0")/60,0) -> 38.272389
A15: Nr | B15: Rorsman | C15: Gast 1 | D15: Gast 2 | E15: Båt | F15: Akt | G15: Utr | H15: Starttid | I15: Målgång | J15: Seglad | K15: Korri- | L15: Tids | M15: Fart | N15: Fart | O15: Plac
F16: SRS | G16: Korr | J16: Tid | K16: gerad | L16: Diff | M16: Medel | N16: Medel
K17: Tid | M17: Verkl | N17: LYS
G18: SGF | H18: (hh:mm:ss) | I18: (hh:mm:ss) | J18: (sek) | K18: (sek) | L18: (sek) | M18: (knop) | N18: (knop)
A19: 1 | B19: =Sammanställning!B9 -> Staffan Kerker | C19: Rickard Magnusson | E19: =Sammanställning!C9 -> 707 | F19: 0.868 | G19: 6 | H19: 0.76805556 | I19: 0.79858796 | J19: =IF(I19>0,(I19-H19)*24*3600,0) -> 2638 | K19: =J19*F19 -> 2289.784 | L19: {=K19-MIN(IF(K19:K31>0,(K19:K31)))} -> 80.724 | M19: =IF(J19>0,$H$6/J19*3600,0) -> 6.3593632 | N19: =IF(K19>0,M19/F19,0) -> 7.3264552 | O19: =RANK(K19,$K$19:$K$31,1)-COUNTIF($K$19:$K$31,0) -> 5
A20: 2 | B20: =Sammanställning!B10 -> Jan-Erik Jonsson | C20: Christer Notini | E20: =Sammanställning!C10 -> 707 | F20: 0.868 | G20: 6 | H20: 0.76805556 | I20: 0.79827546 | J20: =IF(I20>0,(I20-H20)*24*3600,0) -> 2611 | K20: =J20*F20 -> 2266.348 | L20: {=K20-MIN(IF(K19:K31>0,(K19:K31)))} -> 57.288 | M20: =IF(J20>0,$H$6/J20*3600,0) -> 6.4251245 | N20: =IF(K20>0,M20/F20,0) -> 7.4022171 | O20: =RANK(K20,$K$19:$K$31,1)-COUNTIF($K$19:$K$31,0) -> 3
A21: 3 | B21: =Sammanställning!B11 -> Tobjörn Herbertsson | C21: Håkan Stödberg | E21: =Sammanställning!C11 -> 707 | F21: 0.868 | G21: 6 | H21: 0.76805556 | I21: 0.79751157 | J21: =IF(I21>0,(I21-H21)*24*3600,0) -> 2545 | K21: =J21*F21 -> 2209.06 | L21: {=K21-MIN(IF(K19:K31>0,(K19:K31)))} -> 0 | M21: =IF(J21>0,$H$6/J21*3600,0) -> 6.5917485 | N21: =IF(K21>0,M21/F21,0) -> 7.5941803 | O21: =RANK(K21,$K$19:$K$31,1)-COUNTIF($K$19:$K$31,0) -> 1
A22: 4 | B22: =Sammanställning!B12 -> Urban Thim | C22: Anders Nilsson | E22: =Sammanställning!C12 -> 707U | F22: 0.868 | G22: 6 | H22: 0.76805556 | I22: 0.79833333 | J22: =IF(I22>0,(I22-H22)*24*3600,0) -> 2616 | K22: =J22*F22 -> 2270.688 | L22: {=K22-MIN(IF(K19:K31>0,(K19:K31)))} -> 61.628 | M22: =IF(J22>0,$H$6/J22*3600,0) -> 6.412844 | N22: =IF(K22>0,M22/F22,0) -> 7.3880692 | O22: =RANK(K22,$K$19:$K$31,1)-COUNTIF($K$19:$K$31,0) -> 4
A23: 5 | B23: =Sammanställning!B13 -> Lars Berglund | C23: Claes Johansson | E23: =Sammanställning!C13 -> Maxi Magic | F23: 0.852 | G23: 5 | H23: 0.76736111 | I23: 0.7978588 | J23: =IF(I23>0,(I23-H23)*24*3600,0) -> 2635 | K23: =J23*F23 -> 2245.02 | L23: {=K23-MIN(IF(K19:K31>0,(K19:K31)))} -> 35.96 | M23: =IF(J23>0,$H$6/J23*3600,0) -> 6.3666034 | N23: =IF(K23>0,M23/F23,0) -> 7.4725392 | O23: =RANK(K23,$K$19:$K$31,1)-COUNTIF($K$19:$K$31,0) -> 2
A24: 6 | B24: =Sammanställning!B14 -> Ingmar Olsson | E24: =Sammanställning!C14 -> Avanti | H24: DNS | J24: =IF(I24>0,(I24-H24)*24*3600,0) -> 0 | K24: =J24*F24 -> 0 | L24: {=K24-MIN(IF(K19:K31>0,(K19:K31)))} -> -2209.06 | M24: =IF(J24>0,$H$6/J24*3600,0) -> 0 | N24: =IF(K24>0,M24/F24,0) -> 0 | O24: 7
A25: 7 | B25: =Sammanställning!B15 -> Erik Andersson | E25: =Sammanställning!C15 -> Elan 210 | H25: DNS | J25: =IF(I25>0,(I25-H25)*24*3600,0) -> 0 | K25: =J25*F25 -> 0 | L25: {=K25-MIN(IF(K19:K31>0,(K19:K31)))} -> -2209.06 | M25: =IF(J25>0,$H$6/J25*3600,0) -> 0 | N25: =IF(K25>0,M25/F25,0) -> 0 | O25: 7
A26: 8 | B26: =Sammanställning!B16 -> Magnus Nilsson | E26: =Sammanställning!C16 -> Viggen | F26: 0.766 | G26: 0 | H26: 0.76388889 | I26: 0.80162037 | J26: =IF(I26>0,(I26-H26)*24*3600,0) -> 3260 | K26: =J26*F26 -> 2497.16 | L26: {=K26-MIN(IF(K19:K31>0,(K19:K31)))} -> 288.1 | M26: =IF(J26>0,$H$6/J26*3600,0) -> 5.1460123 | N26: =IF(K26>0,M26/F26,0) -> 6.7180317 | O26: =RANK(K26,$K$19:$K$31,1)-COUNTIF($K$19:$K$31,0) -> 6
A27: 9 | B27: =Sammanställning!B17 -> 0 | E27: =Sammanställning!C17 -> 0 | J27: =IF(I27>0,(I27-H27)*24*3600,0) -> 0 | K27: =J27*F27 -> 0 | L27: {=K27-MIN(IF(K19:K31>0,(K19:K31)))} -> -2209.06 | M27: =IF(J27>0,$H$6/J27*3600,0) -> 0 | N27: =IF(K27>0,M27/F27,0) -> 0 | O27: =RANK(K27,$K$19:$K$31,1)-COUNTIF($K$19:$K$31,0) -> -6
A28: 10 | B28: =Sammanställning!B18 -> 0 | E28: =Sammanställning!C18 -> 0 | J28: =IF(I28>0,(I28-H28)*24*3600,0) -> 0 | K28: =J28*F28 -> 0 | L28: {=K28-MIN(IF(K19:K31>0,(K19:K31)))} -> -2209.06 | M28: =IF(J28>0,$H$6/J28*3600,0) -> 0 | N28: =IF(K28>0,M28/F28,0) -> 0 | O28: =RANK(K28,$K$19:$K$31,1)-COUNTIF($K$19:$K$31,0) -> -6
A29: 11 | B29: =Sammanställning!B19 -> 0 | E29: =Sammanställning!C19 -> 0 | J29: =IF(I29>0,(I29-H29)*24*3600,0) -> 0 | K29: =J29*F29 -> 0 | L29: {=K29-MIN(IF(K19:K31>0,(K19:K31)))} -> -2209.06 | M29: =IF(J29>0,$H$6/J29*3600,0) -> 0 | N29: =IF(K29>0,M29/F29,0) -> 0 | O29: =RANK(K29,$K$19:$K$31,1)-COUNTIF($K$19:$K$31,0) -> -6
A30: 12 | B30: =Sammanställning!B20 -> 0 | E30: =Sammanställning!C20 -> 0 | J30: =IF(I30>0,(I30-H30)*24*3600,0) -> 0 | K30: =J30*F30 -> 0 | L30: {=K30-MIN(IF(K19:K31>0,(K19:K31)))} -> -2209.06 | M30: =IF(J30>0,$H$6/J30*3600,0) -> 0 | N30: =IF(K30>0,M30/F30,0) -> 0 | O30: =RANK(K30,$K$19:$K$31,1)-COUNTIF($K$19:$K$31,0) -> -6
A31: 13 | B31: =Sammanställning!B21 -> 0 | E31: =Sammanställning!C21 -> 0 | J31: =IF(I31>0,(I31-H31)*24*3600,0) -> 0 | K31: =J31*F31 -> 0 | L31: {=K31-MIN(IF(K19:K31>0,(K19:K31)))} -> -2209.06 | M31: =IF(J31>0,$H$6/J31*3600,0) -> 0 | N31: =IF(K31>0,M31/F31,0) -> 0

Sheet Segl 4
G2: =Sammanställning!G2 -> HSS Torsdagscup 2026
G3: Seglingsprotokoll 4
A5: Segling nummer: | C5: 4 | E5: Aktuell bana: | H5: A-E-D-E-F-A | K5: Vindförhållanden
A6: Tävlingsledare: | C6: Ingmar Olsson | E6: Banlängd: | H6: 2.26 | I6: (Nm) | K6: Riktning | L6: S
A7: Datum: | C7: 46184 | E7: Möjliga | G7: Startlinje boj: | I7: A | K7: Styrka | L7: 0-5 | O7: (m/s)
A8: Starttid: | C8: 0.79166667 | E8: rundningsmärken | K8: Anm | L8: Regn, åska
K9: Fart och seglingstid
A10: Segling genomförd | C10: Ja | G10: Björköarna: | I10: D | L10: Fart | M10: (knop) | N10: Tid | O10: (min)
G11: Kanotklubben | I11: E | L11: Verkl | M11: LYS | N11: Verkl | O11: LYS
G12: Evedalsviken Öst | I12: F | K12: Antagen | L12: =IF(COUNTA($F$19:$F$31)>0,M12*AVERAGE($F$19:$F$31),0) -> 0 | N12: =IF(COUNTA($F$19:$F$31)>0,O12/AVERAGE($F$19:$F$31),0) -> 0 | O12: =IF(ISBLANK(M12),0,H6/M12*60) -> 0
G13: Söder Appelö | I13: G | K13: Aktuell | L13: =IF(SUM(M19:M31)>0,SUMIF(M19:M31,">0",M19:M31)/COUNTIF(M19:M31,">0"),0) -> 2.375125 | M13: =IF(SUM(M19:M31)>0,SUMIF(N19:N31,">0",N19:N31)/COUNTIF(N19:N31,">0"),0) -> 2.7911131 | N13: =IF(SUM(M19:M31)>0,SUMIF(J19:J31,">0",J19:J31)/COUNTIF(J19:J31,">0")/60,0) -> 57.870833 | O13: =IF(SUM(M19:M31)>0,SUMIF(K19:K31,">0",K19:K31)/COUNTIF(K19:K31,">0")/60,0) -> 49.039983
A15: Nr | B15: Rorsman | C15: Gast 1 | D15: Gast 2 | E15: Båt | F15: Akt | G15: Utr | H15: Starttid | I15: Målgång | J15: Seglad | K15: Korri- | L15: Tids | M15: Fart | N15: Fart | O15: Plac
F16: SRS | G16: Korr | J16: Tid | K16: gerad | L16: Diff | M16: Medel | N16: Medel
K17: Tid | M17: Verkl | N17: LYS
G18: SGF | H18: (hh:mm:ss) | I18: (hh:mm:ss) | J18: (sek) | K18: (sek) | L18: (sek) | M18: (knop) | N18: (knop)
A19: 1 | B19: =Sammanställning!B9 -> Staffan Kerker | E19: =Sammanställning!C9 -> 707 | H19: DNS | J19: =IF(I19>0,(I19-H19)*24*3600,0) -> 0 | K19: =J19*F19 -> 0 | L19: {=K19-MIN(IF(K19:K31>0,(K19:K31)))} -> -2623.964 | M19: =IF(J19>0,$H$6/J19*3600,0) -> 0 | N19: =IF(K19>0,M19/F19,0) -> 0 | O19: 5
A20: 2 | B20: =Sammanställning!B10 -> Jan-Erik Jonsson | C20: Rosita Alkrot | E20: =Sammanställning!C10 -> 707 | F20: 0.868 | H20: 0.79166667 | I20: 0.82665509 | J20: =IF(I20>0,(I20-H20)*24*3600,0) -> 3023 | K20: =J20*F20 -> 2623.964 | L20: {=K20-MIN(IF(K19:K31>0,(K19:K31)))} -> 0 | M20: =IF(J20>0,$H$6/J20*3600,0) -> 2.6913662 | N20: =IF(K20>0,M20/F20,0) -> 3.1006523 | O20: =RANK(K20,$K$19:$K$31,1)-COUNTIF($K$19:$K$31,0) -> 1
A21: 3 | B21: =Sammanställning!B11 -> Tobjörn Herbertsson | E21: =Sammanställning!C11 -> 707 | H21: DNS | J21: =IF(I21>0,(I21-H21)*24*3600,0) -> 0 | K21: =J21*F21 -> 0 | L21: {=K21-MIN(IF(K19:K31>0,(K19:K31)))} -> -2623.964 | M21: =IF(J21>0,$H$6/J21*3600,0) -> 0 | N21: =IF(K21>0,M21/F21,0) -> 0 | O21: 5
A22: 4 | B22: =Sammanställning!B12 -> Urban Thim | C22: Anders Nilsson | E22: =Sammanställning!C12 -> 707U | F22: 0.868 | H22: 0.79166667 | I22: 0.82777778 | J22: =IF(I22>0,(I22-H22)*24*3600,0) -> 3120 | K22: =J22*F22 -> 2708.16 | L22: {=K22-MIN(IF(K19:K31>0,(K19:K31)))} -> 84.196 | M22: =IF(J22>0,$H$6/J22*3600,0) -> 2.6076923 | N22: =IF(K22>0,M22/F22,0) -> 3.0042538 | O22: =RANK(K22,$K$19:$K$31,1)-COUNTIF($K$19:$K$31,0) -> 2
A23: 5 | B23: =Sammanställning!B13 -> Lars Berglund | C23: Claes Johansson | E23: =Sammanställning!C13 -> Maxi Magic | F23: 0.852 | H23: 0.79166667 | I23: 0.83664352 | J23: =IF(I23>0,(I23-H23)*24*3600,0) -> 3886 | K23: =J23*F23 -> 3310.872 | L23: {=K23-MIN(IF(K19:K31>0,(K19:K31)))} -> 686.908 | M23: =IF(J23>0,$H$6/J23*3600,0) -> 2.0936696 | N23: =IF(K23>0,M23/F23,0) -> 2.4573587 | O23: =RANK(K23,$K$19:$K$31,1)-COUNTIF($K$19:$K$31,0) -> 4
A24: 6 | B24: =Sammanställning!B14 -> Ingmar Olsson | E24: =Sammanställning!C14 -> Avanti | H24: DNS | J24: =IF(I24>0,(I24-H24)*24*3600,0) -> 0 | K24: =J24*F24 -> 0 | L24: {=K24-MIN(IF(K19:K31>0,(K19:K31)))} -> -2623.964 | M24: =IF(J24>0,$H$6/J24*3600,0) -> 0 | N24: =IF(K24>0,M24/F24,0) -> 0 | O24: 5
A25: 7 | B25: =Sammanställning!B15 -> Erik Andersson | E25: =Sammanställning!C15 -> Elan 210 | F25: 0.81 | H25: 0.79166667 | I25: 0.83634259 | J25: =IF(I25>0,(I25-H25)*24*3600,0) -> 3860 | K25: =J25*F25 -> 3126.6 | L25: {=K25-MIN(IF(K19:K31>0,(K19:K31)))} -> 502.636 | M25: =IF(J25>0,$H$6/J25*3600,0) -> 2.107772 | N25: =IF(K25>0,M25/F25,0) -> 2.6021877 | O25: =RANK(K25,$K$19:$K$31,1)-COUNTIF($K$19:$K$31,0) -> 3
A26: 8 | B26: =Sammanställning!B16 -> Magnus Nilsson | E26: =Sammanställning!C16 -> Viggen | H26: DNS | J26: =IF(I26>0,(I26-H26)*24*3600,0) -> 0 | K26: =J26*F26 -> 0 | L26: {=K26-MIN(IF(K19:K31>0,(K19:K31)))} -> -2623.964 | M26: =IF(J26>0,$H$6/J26*3600,0) -> 0 | N26: =IF(K26>0,M26/F26,0) -> 0 | O26: 5
A27: 9 | B27: =Sammanställning!B17 -> 0 | E27: =Sammanställning!C17 -> 0 | J27: =IF(I27>0,(I27-H27)*24*3600,0) -> 0 | K27: =J27*F27 -> 0 | L27: {=K27-MIN(IF(K19:K31>0,(K19:K31)))} -> -2623.964 | M27: =IF(J27>0,$H$6/J27*3600,0) -> 0 | N27: =IF(K27>0,M27/F27,0) -> 0 | O27: =RANK(K27,$K$19:$K$31,1)-COUNTIF($K$19:$K$31,0) -> -8
A28: 10 | B28: =Sammanställning!B18 -> 0 | E28: =Sammanställning!C18 -> 0 | J28: =IF(I28>0,(I28-H28)*24*3600,0) -> 0 | K28: =J28*F28 -> 0 | L28: {=K28-MIN(IF(K19:K31>0,(K19:K31)))} -> -2623.964 | M28: =IF(J28>0,$H$6/J28*3600,0) -> 0 | N28: =IF(K28>0,M28/F28,0) -> 0 | O28: =RANK(K28,$K$19:$K$31,1)-COUNTIF($K$19:$K$31,0) -> -8
A29: 11 | B29: =Sammanställning!B19 -> 0 | E29: =Sammanställning!C19 -> 0 | J29: =IF(I29>0,(I29-H29)*24*3600,0) -> 0 | K29: =J29*F29 -> 0 | L29: {=K29-MIN(IF(K19:K31>0,(K19:K31)))} -> -2623.964 | M29: =IF(J29>0,$H$6/J29*3600,0) -> 0 | N29: =IF(K29>0,M29/F29,0) -> 0 | O29: =RANK(K29,$K$19:$K$31,1)-COUNTIF($K$19:$K$31,0) -> -8
A30: 12 | B30: =Sammanställning!B20 -> 0 | E30: =Sammanställning!C20 -> 0 | J30: =IF(I30>0,(I30-H30)*24*3600,0) -> 0 | K30: =J30*F30 -> 0 | L30: {=K30-MIN(IF(K19:K31>0,(K19:K31)))} -> -2623.964 | M30: =IF(J30>0,$H$6/J30*3600,0) -> 0 | N30: =IF(K30>0,M30/F30,0) -> 0 | O30: =RANK(K30,$K$19:$K$31,1)-COUNTIF($K$19:$K$31,0) -> -8
A31: 13 | B31: =Sammanställning!B21 -> 0 | E31: =Sammanställning!C21 -> 0 | J31: =IF(I31>0,(I31-H31)*24*3600,0) -> 0 | K31: =J31*F31 -> 0 | L31: {=K31-MIN(IF(K19:K31>0,(K19:K31)))} -> -2623.964 | M31: =IF(J31>0,$H$6/J31*3600,0) -> 0 | N31: =IF(K31>0,M31/F31,0) -> 0 | O31: =RANK(K31,$K$19:$K$31,1)-COUNTIF($K$19:$K$31,0) -> -8

Sheet Segl 5
G2: =Sammanställning!G2 -> HSS Torsdagscup 2026
G3: Seglingsprotokoll 5
A5: Segling nummer: | C5: 5 | E5: Aktuell bana: | H5: A-D-F-D-A-E-A | K5: Vindförhållanden
A6: Tävlingsledare: | C6: Håkan Stödberg | E6: Banlängd: | H6: 2.32 | I6: (Nm) | K6: Riktning | L6: V / NV
A7: Datum: | C7: 46198 | E7: Möjliga | G7: Startlinje boj: | I7: A | K7: Styrka | L7: 2-7 | O7: (m/s)
A8: Starttid: | C8: 0.76736111 | E8: rundningsmärken | K8: Anm | L8: Sol, varmt och vackert!
K9: Fart och seglingstid
A10: Segling genomförd | C10: JA | G10: Björköarna: | I10: D | L10: Fart | M10: (knop) | N10: Tid | O10: (min)
G11: Kanotklubben | I11: E | L11: Verkl | M11: SRS | N11: Verkl | O11: SRS
G12: Evedalviken Öst | I12: F | K12: Antagen | L12: =IF(COUNTA($F$19:$F$31)>0,M12*AVERAGE($F$19:$F$31),0) -> 0 | N12: =IF(COUNTA($F$19:$F$31)>0,O12/AVERAGE($F$19:$F$31),0) -> 0 | O12: =IF(ISBLANK(M12),0,H6/M12*60) -> 0
G13: Söder Appelö | I13: G | K13: Aktuell | L13: =IF(SUM(M19:M31)>0,SUMIF(M19:M31,">0",M19:M31)/COUNTIF(M19:M31,">0"),0) -> 4.1298507 | M13: =IF(SUM(M19:M31)>0,SUMIF(N19:N31,">0",N19:N31)/COUNTIF(N19:N31,">0"),0) -> 4.9099405 | N13: =IF(SUM(M19:M31)>0,SUMIF(J19:J31,">0",J19:J31)/COUNTIF(J19:J31,">0")/60,0) -> 33.95 | O13: =IF(SUM(M19:M31)>0,SUMIF(K19:K31,">0",K19:K31)/COUNTIF(K19:K31,">0")/60,0) -> 28.384605
A15: Nr | B15: Rorsman | C15: Gast 1 | D15: Gast 2 | E15: Båt | F15: Akt | G15: Utr | H15: Starttid | I15: Målgång | J15: Seglad | K15: Korri- | L15: Tids | M15: Fart | N15: Fart | O15: Plac
F16: SRS | G16: Korr | J16: Tid | K16: gerad | L16: Diff | M16: Medel | N16: Medel
K17: Tid | M17: Verkl | N17: SRS
G18: SGF | H18: (hh:mm:ss) | I18: (hh:mm:ss) | J18: (sek) | K18: (sek) | L18: (sek) | M18: (knop) | N18: (knop)
A19: 1 | B19: =Sammanställning!B9 -> Staffan Kerker | C19: Rickard Magnusson | E19: =Sammanställning!C9 -> 707 | F19: 0.868 | G19: 7 | H19: 0.77222222 | I19: 0.79438657 | J19: =IF(I19>0,(I19-H19)*24*3600,0) -> 1915 | K19: =J19*F19 -> 1662.22 | L19: {=K19-MIN(IF(K19:K31>0,(K19:K31)))} -> 41.664 | M19: =IF(J19>0,$H$6/J19*3600,0) -> 4.3613577 | N19: =IF(K19>0,M19/F19,0) -> 5.0246056 | O19: =RANK(K19,$K$19:$K$31,1)-COUNTIF($K$19:$K$31,0) -> 3
A20: 2 | B20: =Sammanställning!B10 -> Jan-Erik Jonsson | C20: Rostia Alkrot | E20: =Sammanställning!C10 -> 707 | F20: 0.868 | G20: 7 | H20: 0.77222222 | I20: 0.79488426 | J20: =IF(I20>0,(I20-H20)*24*3600,0) -> 1958 | K20: =J20*F20 -> 1699.544 | L20: {=K20-MIN(IF(K19:K31>0,(K19:K31)))} -> 78.988 | M20: =IF(J20>0,$H$6/J20*3600,0) -> 4.2655771 | N20: =IF(K20>0,M20/F20,0) -> 4.9142594 | O20: =RANK(K20,$K$19:$K$31,1)-COUNTIF($K$19:$K$31,0) -> 4
A21: 3 | B21: =Sammanställning!B11 -> Tobjörn Herbertsson | C21: Felix Kelemit | E21: =Sammanställning!C11 -> 707 | F21: 0.868 | G21: 7 | H21: 0.77222222 | I21: 0.79383102 | J21: =IF(I21>0,(I21-H21)*24*3600,0) -> 1867 | K21: =J21*F21 -> 1620.556 | L21: {=K21-MIN(IF(K19:K31>0,(K19:K31)))} -> 0 | M21: =IF(J21>0,$H$6/J21*3600,0) -> 4.4734869 | N21: =IF(K21>0,M21/F21,0) -> 5.1537867 | O21: =RANK(K21,$K$19:$K$31,1)-COUNTIF($K$19:$K$31,0) -> 1
A22: 4 | B22: =Sammanställning!B12 -> Urban Thim | C22: Anders Nilsson | E22: =Sammanställning!C12 -> 707U | F22: 0.868 | G22: 7 | H22: 0.77222222 | I22: 0.79424769 | J22: =IF(I22>0,(I22-H22)*24*3600,0) -> 1903 | K22: =J22*F22 -> 1651.804 | L22: {=K22-MIN(IF(K19:K31>0,(K19:K31)))} -> 31.248 | M22: =IF(J22>0,$H$6/J22*3600,0) -> 4.3888597 | N22: =IF(K22>0,M22/F22,0) -> 5.05629 | O22: =RANK(K22,$K$19:$K$31,1)-COUNTIF($K$19:$K$31,0) -> 2
A23: 5 | B23: =Sammanställning!B13 -> Lars Berglund | C23: Claes Johansson | E23: =Sammanställning!C13 -> Maxi Magic | F23: 0.852 | G23: 6 | H23: 0.77152778 | I23: 0.79490741 | J23: =IF(I23>0,(I23-H23)*24*3600,0) -> 2020 | K23: =J23*F23 -> 1721.04 | L23: {=K23-MIN(IF(K19:K31>0,(K19:K31)))} -> 100.484 | M23: =IF(J23>0,$H$6/J23*3600,0) -> 4.1346535 | N23: =IF(K23>0,M23/F23,0) -> 4.8528797 | O23: =RANK(K23,$K$19:$K$31,1)-COUNTIF($K$19:$K$31,0) -> 5
A24: 6 | B24: =Sammanställning!B14 -> Ingmar Olsson | C24: Lasse Husberg | E24: =Sammanställning!C14 -> Avanti | F24: 0.745 | G24: 0 | H24: 0.76736111 | I24: 0.79520833 | J24: =IF(I24>0,(I24-H24)*24*3600,0) -> 2406 | K24: =J24*F24 -> 1792.47 | L24: {=K24-MIN(IF(K19:K31>0,(K19:K31)))} -> 171.914 | M24: =IF(J24>0,$H$6/J24*3600,0) -> 3.4713217 | N24: =IF(K24>0,M24/F24,0) -> 4.6594922 | O24: =RANK(K24,$K$19:$K$31,1)-COUNTIF($K$19:$K$31,0) -> 7
A25: 7 | B25: =Sammanställning!B15 -> Erik Andersson | E25: =Sammanställning!C15 -> Elan 210 | F25: 0.81 | G25: 3 | H25: 0.76944444 | I25: 0.79479167 | J25: =IF(I25>0,(I25-H25)*24*3600,0) -> 2190 | K25: =J25*F25 -> 1773.9 | L25: {=K25-MIN(IF(K19:K31>0,(K19:K31)))} -> 153.344 | M25: =IF(J25>0,$H$6/J25*3600,0) -> 3.8136986 | N25: =IF(K25>0,M25/F25,0) -> 4.7082699 | O25: =RANK(K25,$K$19:$K$31,1)-COUNTIF($K$19:$K$31,0) -> 6
A26: 8 | B26: =Sammanställning!B16 -> Magnus Nilsson | E26: =Sammanställning!C16 -> Viggen | H26: DNS | J26: =IF(I26>0,(I26-H26)*24*3600,0) -> 0 | K26: =J26*F26 -> 0 | L26: {=K26-MIN(IF(K19:K31>0,(K19:K31)))} -> -1620.556 | M26: =IF(J26>0,$H$6/J26*3600,0) -> 0 | N26: =IF(K26>0,M26/F26,0) -> 0 | O26: 8
A27: 9 | B27: =Sammanställning!B17 -> 0 | E27: =Sammanställning!C17 -> 0 | J27: =IF(I27>0,(I27-H27)*24*3600,0) -> 0 | K27: =J27*F27 -> 0 | L27: {=K27-MIN(IF(K19:K31>0,(K19:K31)))} -> -1620.556 | M27: =IF(J27>0,$H$6/J27*3600,0) -> 0 | N27: =IF(K27>0,M27/F27,0) -> 0 | O27: =RANK(K27,$K$19:$K$31,1)-COUNTIF($K$19:$K$31,0) -> -5
A28: 10 | B28: =Sammanställning!B18 -> 0 | E28: =Sammanställning!C18 -> 0 | J28: =IF(I28>0,(I28-H28)*24*3600,0) -> 0 | K28: =J28*F28 -> 0 | L28: {=K28-MIN(IF(K19:K31>0,(K19:K31)))} -> -1620.556 | M28: =IF(J28>0,$H$6/J28*3600,0) -> 0 | N28: =IF(K28>0,M28/F28,0) -> 0 | O28: =RANK(K28,$K$19:$K$31,1)-COUNTIF($K$19:$K$31,0) -> -5
A29: 11 | B29: =Sammanställning!B19 -> 0 | E29: =Sammanställning!C19 -> 0 | J29: =IF(I29>0,(I29-H29)*24*3600,0) -> 0 | K29: =J29*F29 -> 0 | L29: {=K29-MIN(IF(K19:K31>0,(K19:K31)))} -> -1620.556 | M29: =IF(J29>0,$H$6/J29*3600,0) -> 0 | N29: =IF(K29>0,M29/F29,0) -> 0 | O29: =RANK(K29,$K$19:$K$31,1)-COUNTIF($K$19:$K$31,0) -> -5
A30: 12 | B30: =Sammanställning!B20 -> 0 | E30: =Sammanställning!C20 -> 0 | J30: =IF(I30>0,(I30-H30)*24*3600,0) -> 0 | K30: =J30*F30 -> 0 | L30: {=K30-MIN(IF(K19:K31>0,(K19:K31)))} -> -1620.556 | M30: =IF(J30>0,$H$6/J30*3600,0) -> 0 | N30: =IF(K30>0,M30/F30,0) -> 0 | O30: =RANK(K30,$K$19:$K$31,1)-COUNTIF($K$19:$K$31,0) -> -5
A31: 13 | B31: =Sammanställning!B21 -> 0 | E31: =Sammanställning!C21 -> 0 | J31: =IF(I31>0,(I31-H31)*24*3600,0) -> 0 | K31: =J31*F31 -> 0 | L31: {=K31-MIN(IF(K19:K31>0,(K19:K31)))} -> -1620.556 | M31: =IF(J31>0,$H$6/J31*3600,0) -> 0 | N31: =IF(K31>0,M31/F31,0) -> 0 | O31: =RANK(K31,$K$19:$K$31,1)-COUNTIF($K$19:$K$31,0) -> -5

Sheet Segl 6
G2: =Sammanställning!G2 -> HSS Torsdagscup 2026
G3: Seglingsprotokoll 6
A5: Segling nummer: | C5: 6 | E5: Aktuell bana: | H5: A-F-D-E-G-D-A-E-A | K5: Vindförhållanden
A6: Tävlingsledare: | C6: Lars Berglund | E6: Banlängd: | H6: 4.1 | I6: (Nm) | K6: Riktning | L6: V
A7: Datum: | C7: 46240 | E7: Möjliga | G7: Startlinje boj: | I7: A | K7: Styrka | L7: 5-12 | O7: (m/s)
A8: Starttid: | C8: 0.77083333 | E8: rundningsmärken | K8: Anm | L8: Byigt, sol, fint
K9: Fart och seglingstid
A10: Segling genomförd | C10: Ja | G10: Björköarna: | I10: D | L10: Fart | M10: (knop) | N10: Tid | O10: (min)
G11: Kanotklubben | I11: E | L11: Verkl | M11: LYS | N11: Verkl | O11: LYS
G12: Evedalsviken Öst | I12: F | K12: Antagen | L12: =IF(COUNTA($F$19:$F$31)>0,M12*AVERAGE($F$19:$F$31),0) -> 0 | N12: =IF(COUNTA($F$19:$F$31)>0,O12/AVERAGE($F$19:$F$31),0) -> 0 | O12: =IF(ISBLANK(M12),0,H6/M12*60) -> 0
G13: Söder Appelö | I13: G | K13: Aktuell | L13: =IF(SUM(M19:M31)>0,SUMIF(M19:M31,">0",M19:M31)/COUNTIF(M19:M31,">0"),0) -> 5.2128812 | M13: =IF(SUM(M19:M31)>0,SUMIF(N19:N31,">0",N19:N31)/COUNTIF(N19:N31,">0"),0) -> 6.2916241 | N13: =IF(SUM(M19:M31)>0,SUMIF(J19:J31,">0",J19:J31)/COUNTIF(J19:J31,">0")/60,0) -> 47.333333 | O13: =IF(SUM(M19:M31)>0,SUMIF(K19:K31,">0",K19:K31)/COUNTIF(K19:K31,">0")/60,0) -> 39.111822
A15: Nr | B15: Rorsman | C15: Gast 1 | D15: Gast 2 | E15: Båt | F15: Akt | G15: Utr | H15: Starttid | I15: Målgång | J15: Seglad | K15: Korri- | L15: Tids | M15: Fart | N15: Fart | O15: Plac
F16: SRS | G16: Korr | J16: Tid | K16: gerad | L16: Diff | M16: Medel | N16: Medel
K17: Tid | M17: Verkl | N17: LYS
G18: SGF | H18: (hh:mm:ss) | I18: (hh:mm:ss) | J18: (sek) | K18: (sek) | L18: (sek) | M18: (knop) | N18: (knop)
A19: 1 | B19: =Sammanställning!B9 -> Staffan Kerker | C19: Rickard Magnussn | E19: =Sammanställning!C9 -> 707 | F19: 0.868 | H19: 0.77083333 | I19: 0.80159722 | J19: =IF(I19>0,(I19-H19)*24*3600,0) -> 2658 | K19: =J19*F19 -> 2307.144 | L19: {=K19-MIN(IF(K19:K31>0,(K19:K31)))} -> 0 | M19: =IF(J19>0,$H$6/J19*3600,0) -> 5.5530474 | N19: =IF(K19>0,M19/F19,0) -> 6.3975201 | O19: =RANK(K19,$K$19:$K$31,1)-COUNTIF($K$19:$K$31,0) -> 1
A20: 2 | B20: =Sammanställning!B10 -> Jan-Erik Jonsson | E20: =Sammanställning!C10 -> 707 | H20: DNS | J20: =IF(I20>0,(I20-H20)*24*3600,0) -> 0 | K20: =J20*F20 -> 0 | L20: {=K20-MIN(IF(K19:K31>0,(K19:K31)))} -> -2307.144 | M20: =IF(J20>0,$H$6/J20*3600,0) -> 0 | N20: =IF(K20>0,M20/F20,0) -> 0 | O20: 4
A21: 3 | B21: =Sammanställning!B11 -> Tobjörn Herbertsson | E21: =Sammanställning!C11 -> 707 | H21: DNS | J21: =IF(I21>0,(I21-H21)*24*3600,0) -> 0 | K21: =J21*F21 -> 0 | L21: {=K21-MIN(IF(K19:K31>0,(K19:K31)))} -> -2307.144 | M21: =IF(J21>0,$H$6/J21*3600,0) -> 0 | N21: =IF(K21>0,M21/F21,0) -> 0 | O21: 4
A22: 4 | B22: =Sammanställning!B12 -> Urban Thim | E22: =Sammanställning!C12 -> 707U | H22: DNS | J22: =IF(I22>0,(I22-H22)*24*3600,0) -> 0 | K22: =J22*F22 -> 0 | L22: {=K22-MIN(IF(K19:K31>0,(K19:K31)))} -> -2307.144 | M22: =IF(J22>0,$H$6/J22*3600,0) -> 0 | N22: =IF(K22>0,M22/F22,0) -> 0 | O22: 4
A23: 5 | B23: =Sammanställning!B13 -> Lars Berglund | C23: Håkan Karlsson | E23: =Sammanställning!C13 -> Maxi Magic | F23: 0.852 | H23: 0.77083333 | I23: 0.80349537 | J23: =IF(I23>0,(I23-H23)*24*3600,0) -> 2822 | K23: =J23*F23 -> 2404.344 | L23: {=K23-MIN(IF(K19:K31>0,(K19:K31)))} -> 97.2 | M23: =IF(J23>0,$H$6/J23*3600,0) -> 5.2303331 | N23: =IF(K23>0,M23/F23,0) -> 6.1388886 | O23: =RANK(K23,$K$19:$K$31,1)-COUNTIF($K$19:$K$31,0) -> 3
A24: 6 | B24: =Sammanställning!B14 -> Ingmar Olsson | E24: =Sammanställning!C14 -> Avanti | H24: DNS | J24: =IF(I24>0,(I24-H24)*24*3600,0) -> 0 | K24: =J24*F24 -> 0 | L24: {=K24-MIN(IF(K19:K31>0,(K19:K31)))} -> -2307.144 | M24: =IF(J24>0,$H$6/J24*3600,0) -> 0 | N24: =IF(K24>0,M24/F24,0) -> 0 | O24: 4
A25: 7 | B25: =Sammanställning!B15 -> Erik Andersson | E25: =Sammanställning!C15 -> Elan 210 | H25: DNS | J25: =IF(I25>0,(I25-H25)*24*3600,0) -> 0 | K25: =J25*F25 -> 0 | L25: {=K25-MIN(IF(K19:K31>0,(K19:K31)))} -> -2307.144 | M25: =IF(J25>0,$H$6/J25*3600,0) -> 0 | N25: =IF(K25>0,M25/F25,0) -> 0 | O25: 4
A26: 8 | B26: =Sammanställning!B16 -> Magnus Nilsson | E26: =Sammanställning!C16 -> Viggen | F26: 0.766 | H26: 0.77083333 | I26: 0.80601852 | J26: =IF(I26>0,(I26-H26)*24*3600,0) -> 3040 | K26: =J26*F26 -> 2328.64 | L26: {=K26-MIN(IF(K19:K31>0,(K19:K31)))} -> 21.496 | M26: =IF(J26>0,$H$6/J26*3600,0) -> 4.8552632 | N26: =IF(K26>0,M26/F26,0) -> 6.3384637 | O26: =RANK(K26,$K$19:$K$31,1)-COUNTIF($K$19:$K$31,0) -> 2
A27: 9 | B27: =Sammanställning!B17 -> 0 | E27: =Sammanställning!C17 -> 0 | J27: =IF(I27>0,(I27-H27)*24*3600,0) -> 0 | K27: =J27*F27 -> 0 | L27: {=K27-MIN(IF(K19:K31>0,(K19:K31)))} -> -2307.144 | M27: =IF(J27>0,$H$6/J27*3600,0) -> 0 | N27: =IF(K27>0,M27/F27,0) -> 0 | O27: =RANK(K27,$K$19:$K$31,1)-COUNTIF($K$19:$K$31,0) -> -9
A28: 10 | B28: =Sammanställning!B18 -> 0 | E28: =Sammanställning!C18 -> 0 | J28: =IF(I28>0,(I28-H28)*24*3600,0) -> 0 | K28: =J28*F28 -> 0 | L28: {=K28-MIN(IF(K19:K31>0,(K19:K31)))} -> -2307.144 | M28: =IF(J28>0,$H$6/J28*3600,0) -> 0 | N28: =IF(K28>0,M28/F28,0) -> 0 | O28: =RANK(K28,$K$19:$K$31,1)-COUNTIF($K$19:$K$31,0) -> -9
A29: 11 | B29: =Sammanställning!B19 -> 0 | E29: =Sammanställning!C19 -> 0 | J29: =IF(I29>0,(I29-H29)*24*3600,0) -> 0 | K29: =J29*F29 -> 0 | L29: {=K29-MIN(IF(K19:K31>0,(K19:K31)))} -> -2307.144 | M29: =IF(J29>0,$H$6/J29*3600,0) -> 0 | N29: =IF(K29>0,M29/F29,0) -> 0 | O29: =RANK(K29,$K$19:$K$31,1)-COUNTIF($K$19:$K$31,0) -> -9
A30: 12 | B30: =Sammanställning!B20 -> 0 | E30: =Sammanställning!C20 -> 0 | J30: =IF(I30>0,(I30-H30)*24*3600,0) -> 0 | K30: =J30*F30 -> 0 | L30: {=K30-MIN(IF(K19:K31>0,(K19:K31)))} -> -2307.144 | M30: =IF(J30>0,$H$6/J30*3600,0) -> 0 | N30: =IF(K30>0,M30/F30,0) -> 0 | O30: =RANK(K30,$K$19:$K$31,1)-COUNTIF($K$19:$K$31,0) -> -9
A31: 13 | B31: =Sammanställning!B21 -> 0 | E31: =Sammanställning!C21 -> 0 | J31: =IF(I31>0,(I31-H31)*24*3600,0) -> 0 | K31: =J31*F31 -> 0 | L31: {=K31-MIN(IF(K19:K31>0,(K19:K31)))} -> -2307.144 | M31: =IF(J31>0,$H$6/J31*3600,0) -> 0 | N31: =IF(K31>0,M31/F31,0) -> 0 | O31: =RANK(K31,$K$19:$K$31,1)-COUNTIF($K$19:$K$31,0) -> -9

Sheet Segl 7
G2: =Sammanställning!G2 -> HSS Torsdagscup 2026
G3: Seglingsprotokoll 7
A5: Segling nummer: | C5: 7 | E5: Aktuell bana: | H5: A-D-E-D-F-A | K5: Vindförhållanden
A6: Tävlingsledare: | C6: Urban Thim | E6: Banlängd: | H6: 2.49 | I6: (Nm) | K6: Riktning | L6: NV / V
A7: Datum: | C7: 46247 | E7: Möjliga | G7: Startlinje boj: | I7: A | K7: Styrka | L7: 2-5 | O7: (m/s)
A8: Starttid: | C8: 0.76041667 | E8: rundningsmärken | K8: Anm | L8: Sol, fint
K9: Fart och seglingstid
A10: Segling genomförd | C10: JA | G10: Björköarna: | I10: D | L10: Fart | M10: (knop) | N10: Tid | O10: (min)
G11: Kanotklubben | I11: E | L11: Verkl | M11: LYS | N11: Verkl | O11: LYS
G12: Evedalviken Öst | I12: F | K12: Antagen | L12: =IF(COUNTA($F$19:$F$31)>0,M12*AVERAGE($F$19:$F$31),0) -> 0 | N12: =IF(COUNTA($F$19:$F$31)>0,O12/AVERAGE($F$19:$F$31),0) -> 0 | O12: =IF(ISBLANK(M12),0,H6/M12*60) -> 0
G13: Söder Appelö | I13: G | K13: Aktuell | L13: =IF(SUM(M19:M31)>0,SUMIF(M19:M31,">0",M19:M31)/COUNTIF(M19:M31,">0"),0) -> 3.8016287 | M13: =IF(SUM(M19:M31)>0,SUMIF(N19:N31,">0",N19:N31)/COUNTIF(N19:N31,">0"),0) -> 4.4667177 | N13: =IF(SUM(M19:M31)>0,SUMIF(J19:J31,">0",J19:J31)/COUNTIF(J19:J31,">0")/60,0) -> 39.947222 | O13: =IF(SUM(M19:M31)>0,SUMIF(K19:K31,">0",K19:K31)/COUNTIF(K19:K31,">0")/60,0) -> 33.683789
A15: Nr | B15: Rorsman | C15: Gast 1 | D15: Gast 2 | E15: Båt | F15: Akt | G15: Utr | H15: Starttid | I15: Målgång | J15: Seglad | K15: Korri- | L15: Tids | M15: Fart | N15: Fart | O15: Plac
F16: SRS | G16: Korr | J16: Tid | K16: gerad | L16: Diff | M16: Medel | N16: Medel
K17: Tid | M17: Verkl | N17: LYS
G18: SGF | H18: (hh:mm:ss) | I18: (hh:mm:ss) | J18: (sek) | K18: (sek) | L18: (sek) | M18: (knop) | N18: (knop)
A19: 1 | B19: =Sammanställning!B9 -> Staffan Kerker | C19: Rickard Magnusson | E19: =Sammanställning!C9 -> 707 | F19: 0.868 | G19: 6 | H19: 0.76458333 | I19: 0.79091435 | J19: =IF(I19>0,(I19-H19)*24*3600,0) -> 2275 | K19: =J19*F19 -> 1974.7 | L19: {=K19-MIN(IF(K19:K31>0,(K19:K31)))} -> 153.636 | M19: =IF(J19>0,$H$6/J19*3600,0) -> 3.9402198 | N19: =IF(K19>0,M19/F19,0) -> 4.5394237 | O19: =RANK(K19,$K$19:$K$31,1)-COUNTIF($K$19:$K$31,0) -> 4
A20: 2 | B20: =Sammanställning!B10 -> Jan-Erik Jonsson | C20: Christer Notini | E20: =Sammanställning!C10 -> 707 | F20: 0.868 | G20: 6 | H20: 0.76458333 | I20: 0.79085648 | J20: =IF(I20>0,(I20-H20)*24*3600,0) -> 2270 | K20: =J20*F20 -> 1970.36 | L20: {=K20-MIN(IF(K19:K31>0,(K19:K31)))} -> 149.296 | M20: =IF(J20>0,$H$6/J20*3600,0) -> 3.9488987 | N20: =IF(K20>0,M20/F20,0) -> 4.5494224 | O20: =RANK(K20,$K$19:$K$31,1)-COUNTIF($K$19:$K$31,0) -> 3
A21: 3 | B21: =Sammanställning!B11 -> Tobjörn Herbertsson | C21: Kent-Åke Larsson | E21: =Sammanställning!C11 -> 707 | F21: 0.868 | G21: 6 | H21: 0.76458333 | I21: 0.79032407 | J21: =IF(I21>0,(I21-H21)*24*3600,0) -> 2224 | K21: =J21*F21 -> 1930.432 | L21: {=K21-MIN(IF(K19:K31>0,(K19:K31)))} -> 109.368 | M21: =IF(J21>0,$H$6/J21*3600,0) -> 4.0305755 | N21: =IF(K21>0,M21/F21,0) -> 4.6435202 | O21: =RANK(K21,$K$19:$K$31,1)-COUNTIF($K$19:$K$31,0) -> 2
A22: 4 | B22: =Sammanställning!B12 -> Urban Thim | C22: Olivia Thim | E22: =Sammanställning!C12 -> 707U | F22: 0.868 | G22: 6 | H22: 0.76458333 | I22: 0.78886574 | J22: =IF(I22>0,(I22-H22)*24*3600,0) -> 2098 | K22: =J22*F22 -> 1821.064 | L22: {=K22-MIN(IF(K19:K31>0,(K19:K31)))} -> 0 | M22: =IF(J22>0,$H$6/J22*3600,0) -> 4.2726406 | N22: =IF(K22>0,M22/F22,0) -> 4.922397 | O22: =RANK(K22,$K$19:$K$31,1)-COUNTIF($K$19:$K$31,0) -> 1
A23: 5 | B23: =Sammanställning!B13 -> Lars Berglund | C23: Claes Johansson | E23: =Sammanställning!C13 -> Maxi Magic | F23: 0.852 | G23: 5 | H23: 0.76388889 | I23: 0.79159722 | J23: =IF(I23>0,(I23-H23)*24*3600,0) -> 2394 | K23: =J23*F23 -> 2039.688 | L23: {=K23-MIN(IF(K19:K31>0,(K19:K31)))} -> 218.624 | M23: =IF(J23>0,$H$6/J23*3600,0) -> 3.7443609 | N23: =IF(K23>0,M23/F23,0) -> 4.3947898 | O23: =RANK(K23,$K$19:$K$31,1)-COUNTIF($K$19:$K$31,0) -> 5
A24: 6 | B24: =Sammanställning!B14 -> Ingmar Olsson | E24: =Sammanställning!C14 -> Avanti | H24: DNS | J24: =IF(I24>0,(I24-H24)*24*3600,0) -> 0 | K24: =J24*F24 -> 0 | L24: {=K24-MIN(IF(K19:K31>0,(K19:K31)))} -> -1821.064 | M24: =IF(J24>0,$H$6/J24*3600,0) -> 0 | N24: =IF(K24>0,M24/F24,0) -> 0 | O24: 7
A25: 7 | B25: =Sammanställning!B15 -> Erik Andersson | E25: =Sammanställning!C15 -> Elan 210 | H25: DNS | J25: =IF(I25>0,(I25-H25)*24*3600,0) -> 0 | K25: =J25*F25 -> 0 | L25: {=K25-MIN(IF(K19:K31>0,(K19:K31)))} -> -1821.064 | M25: =IF(J25>0,$H$6/J25*3600,0) -> 0 | N25: =IF(K25>0,M25/F25,0) -> 0 | O25: 7
A26: 8 | B26: =Sammanställning!B16 -> Magnus Nilsson | E26: =Sammanställning!C16 -> Viggen | F26: 0.766 | G26: 9 | H26: 0.76041667 | I26: 0.79652778 | J26: =IF(I26>0,(I26-H26)*24*3600,0) -> 3120 | K26: =J26*F26 -> 2389.92 | L26: {=K26-MIN(IF(K19:K31>0,(K19:K31)))} -> 568.856 | M26: =IF(J26>0,$H$6/J26*3600,0) -> 2.8730769 | N26: =IF(K26>0,M26/F26,0) -> 3.7507532 | O26: =RANK(K26,$K$19:$K$31,1)-COUNTIF($K$19:$K$31,0) -> 6
A27: 9 | B27: =Sammanställning!B17 -> 0 | E27: =Sammanställning!C17 -> 0 | J27: =IF(I27>0,(I27-H27)*24*3600,0) -> 0 | K27: =J27*F27 -> 0 | L27: {=K27-MIN(IF(K19:K31>0,(K19:K31)))} -> -1821.064 | M27: =IF(J27>0,$H$6/J27*3600,0) -> 0 | N27: =IF(K27>0,M27/F27,0) -> 0 | O27: =RANK(K27,$K$19:$K$31,1)-COUNTIF($K$19:$K$31,0) -> -6
A28: 10 | B28: =Sammanställning!B18 -> 0 | E28: =Sammanställning!C18 -> 0 | J28: =IF(I28>0,(I28-H28)*24*3600,0) -> 0 | K28: =J28*F28 -> 0 | L28: {=K28-MIN(IF(K19:K31>0,(K19:K31)))} -> -1821.064 | M28: =IF(J28>0,$H$6/J28*3600,0) -> 0 | N28: =IF(K28>0,M28/F28,0) -> 0 | O28: =RANK(K28,$K$19:$K$31,1)-COUNTIF($K$19:$K$31,0) -> -6
A29: 11 | B29: =Sammanställning!B19 -> 0 | E29: =Sammanställning!C19 -> 0 | J29: =IF(I29>0,(I29-H29)*24*3600,0) -> 0 | K29: =J29*F29 -> 0 | L29: {=K29-MIN(IF(K19:K31>0,(K19:K31)))} -> -1821.064 | M29: =IF(J29>0,$H$6/J29*3600,0) -> 0 | N29: =IF(K29>0,M29/F29,0) -> 0 | O29: =RANK(K29,$K$19:$K$31,1)-COUNTIF($K$19:$K$31,0) -> -6
A30: 12 | B30: =Sammanställning!B20 -> 0 | E30: =Sammanställning!C20 -> 0 | J30: =IF(I30>0,(I30-H30)*24*3600,0) -> 0 | K30: =J30*F30 -> 0 | L30: {=K30-MIN(IF(K19:K31>0,(K19:K31)))} -> -1821.064 | M30: =IF(J30>0,$H$6/J30*3600,0) -> 0 | N30: =IF(K30>0,M30/F30,0) -> 0 | O30: =RANK(K30,$K$19:$K$31,1)-COUNTIF($K$19:$K$31,0) -> -6
A31: 13 | B31: =Sammanställning!B21 -> 0 | E31: =Sammanställning!C21 -> 0 | J31: =IF(I31>0,(I31-H31)*24*3600,0) -> 0 | K31: =J31*F31 -> 0 | L31: {=K31-MIN(IF(K19:K31>0,(K19:K31)))} -> -1821.064 | M31: =IF(J31>0,$H$6/J31*3600,0) -> 0 | N31: =IF(K31>0,M31/F31,0) -> 0 | O31: =RANK(K31,$K$19:$K$31,1)-COUNTIF($K$19:$K$31,0) -> -6

Sheet Segl 8
G2: =Sammanställning!G2 -> HSS Torsdagscup 2026
G3: Seglingsprotokoll 8
A5: Segling nummer: | C5: 8 | E5: Aktuell bana: | H5: A-E-F-A-D-F-E-F-A | K5: Vindförhållanden
A6: Tävlingsledare: | C6: Segelbåtsektionen | E6: Banlängd: | H6: 3.17 | I6: (Nm) | K6: Riktning | L6: V
A7: Datum: | C7: 46254 | E7: Möjliga | G7: Startlinje boj: | I7: A | K7: Styrka | L7: 2-5 | O7: (m/s)
A8: Starttid: | C8: 0.76388889 | E8: rundningsmärken | K8: Anm | L8: Paradsegling, vridigt
K9: Fart och seglingstid
A10: Segling genomförd | C10: JA | G10: Björköarna: | I10: D | L10: Fart | M10: (knop) | N10: Tid | O10: (min)
G11: Kanotklubben | I11: E | L11: Verkl | M11: LYS | N11: Verkl | O11: LYS
G12: Evedalviken Öst | I12: F | K12: Antagen | L12: =IF(COUNTA($F$19:$F$31)>0,M12*AVERAGE($F$19:$F$31),0) -> 0 | N12: =IF(COUNTA($F$19:$F$31)>0,O12/AVERAGE($F$19:$F$31),0) -> 0 | O12: =IF(ISBLANK(M12),0,H6/M12*60) -> 0
G13: Söder Appelö | I13: G | K13: Aktuell | L13: =IF(SUM(M19:M31)>0,SUMIF(M19:M31,">0",M19:M31)/COUNTIF(M19:M31,">0"),0) -> 3.9055696 | M13: =IF(SUM(M19:M31)>0,SUMIF(N19:N31,">0",N19:N31)/COUNTIF(N19:N31,">0"),0) -> 4.5982981 | N13: =IF(SUM(M19:M31)>0,SUMIF(J19:J31,">0",J19:J31)/COUNTIF(J19:J31,">0")/60,0) -> 49.002778 | O13: =IF(SUM(M19:M31)>0,SUMIF(K19:K31,">0",K19:K31)/COUNTIF(K19:K31,">0")/60,0) -> 41.428856
A15: Nr | B15: Rorsman | C15: Gast 1 | D15: Gast 2 | E15: Båt | F15: Akt | G15: Utr | H15: Starttid | I15: Målgång | J15: Seglad | K15: Korri- | L15: Tids | M15: Fart | N15: Fart | O15: Plac
F16: SRS | G16: Korr | J16: Tid | K16: gerad | L16: Diff | M16: Medel | N16: Medel
K17: Tid | M17: Verkl | N17: LYS
G18: SGF | H18: (hh:mm:ss) | I18: (hh:mm:ss) | J18: (sek) | K18: (sek) | L18: (sek) | M18: (knop) | N18: (knop)
A19: 1 | B19: =Sammanställning!B9 -> Staffan Kerker | C19: Staffan Lothsson | E19: =Sammanställning!C9 -> 707 | F19: 0.868 | H19: 0.76388889 | I19: 0.79693287 | J19: =IF(I19>0,(I19-H19)*24*3600,0) -> 2855 | K19: =J19*F19 -> 2478.14 | L19: {=K19-MIN(IF(K19:K31>0,(K19:K31)))} -> 177.072 | M19: =IF(J19>0,$H$6/J19*3600,0) -> 3.9971979 | N19: =IF(K19>0,M19/F19,0) -> 4.6050667 | O19: =RANK(K19,$K$19:$K$31,1)-COUNTIF($K$19:$K$31,0) -> 2
A20: 2 | B20: =Sammanställning!B10 -> Jan-Erik Jonsson | C20: Krister Notini | E20: =Sammanställning!C10 -> 707 | F20: 0.868 | H20: 0.76388889 | I20: 0.79731481 | J20: =IF(I20>0,(I20-H20)*24*3600,0) -> 2888 | K20: =J20*F20 -> 2506.784 | L20: {=K20-MIN(IF(K19:K31>0,(K19:K31)))} -> 205.716 | M20: =IF(J20>0,$H$6/J20*3600,0) -> 3.9515235 | N20: =IF(K20>0,M20/F20,0) -> 4.5524465 | O20: =RANK(K20,$K$19:$K$31,1)-COUNTIF($K$19:$K$31,0) -> 4
A21: 3 | B21: =Sammanställning!B11 -> Tobjörn Herbertsson | C21: Håkan Stödberg | E21: =Sammanställning!C11 -> 707 | F21: 0.868 | H21: 0.76388889 | I21: 0.79457176 | J21: =IF(I21>0,(I21-H21)*24*3600,0) -> 2651 | K21: =J21*F21 -> 2301.068 | L21: {=K21-MIN(IF(K19:K31>0,(K19:K31)))} -> 0 | M21: =IF(J21>0,$H$6/J21*3600,0) -> 4.3047906 | N21: =IF(K21>0,M21/F21,0) -> 4.9594362 | O21: =RANK(K21,$K$19:$K$31,1)-COUNTIF($K$19:$K$31,0) -> 1
A22: 4 | B22: =Sammanställning!B12 -> Urban Thim | C22: Anders Nilsson | E22: =Sammanställning!C12 -> 707U | F22: 0.868 | H22: 0.76388889 | I22: 0.79701389 | J22: =IF(I22>0,(I22-H22)*24*3600,0) -> 2862 | K22: =J22*F22 -> 2484.216 | L22: {=K22-MIN(IF(K19:K31>0,(K19:K31)))} -> 183.148 | M22: =IF(J22>0,$H$6/J22*3600,0) -> 3.9874214 | N22: =IF(K22>0,M22/F22,0) -> 4.5938034 | O22: =RANK(K22,$K$19:$K$31,1)-COUNTIF($K$19:$K$31,0) -> 3
A23: 5 | B23: =Sammanställning!B13 -> Lars Berglund | C23: Claes Johansson | E23: =Sammanställning!C13 -> Maxi Magic | F23: 0.852 | H23: 0.76388889 | I23: 0.79797454 | J23: =IF(I23>0,(I23-H23)*24*3600,0) -> 2945 | K23: =J23*F23 -> 2509.14 | L23: {=K23-MIN(IF(K19:K31>0,(K19:K31)))} -> 208.072 | M23: =IF(J23>0,$H$6/J23*3600,0) -> 3.8750424 | N23: =IF(K23>0,M23/F23,0) -> 4.5481719 | O23: =RANK(K23,$K$19:$K$31,1)-COUNTIF($K$19:$K$31,0) -> 5
A24: 6 | B24: =Sammanställning!B14 -> Ingmar Olsson | E24: =Sammanställning!C14 -> Avanti | H24: DNS | J24: =IF(I24>0,(I24-H24)*24*3600,0) -> 0 | K24: =J24*F24 -> 0 | L24: {=K24-MIN(IF(K19:K31>0,(K19:K31)))} -> -2301.068 | M24: =IF(J24>0,$H$6/J24*3600,0) -> 0 | N24: =IF(K24>0,M24/F24,0) -> 0 | O24: 7
A25: 7 | B25: =Sammanställning!B15 -> Erik Andersson | E25: =Sammanställning!C15 -> Elan 210 | H25: DNS | J25: =IF(I25>0,(I25-H25)*24*3600,0) -> 0 | K25: =J25*F25 -> 0 | L25: {=K25-MIN(IF(K19:K31>0,(K19:K31)))} -> -2301.068 | M25: =IF(J25>0,$H$6/J25*3600,0) -> 0 | N25: =IF(K25>0,M25/F25,0) -> 0 | O25: 7
A26: 8 | B26: =Sammanställning!B16 -> Magnus Nilsson | E26: =Sammanställning!C16 -> Viggen | F26: 0.766 | H26: 0.76388889 | I26: 0.8037037 | J26: =IF(I26>0,(I26-H26)*24*3600,0) -> 3440 | K26: =J26*F26 -> 2635.04 | L26: {=K26-MIN(IF(K19:K31>0,(K19:K31)))} -> 333.972 | M26: =IF(J26>0,$H$6/J26*3600,0) -> 3.3174419 | N26: =IF(K26>0,M26/F26,0) -> 4.330864 | O26: =RANK(K26,$K$19:$K$31,1)-COUNTIF($K$19:$K$31,0) -> 6
A27: 9 | B27: =Sammanställning!B17 -> 0 | E27: =Sammanställning!C17 -> 0 | J27: =IF(I27>0,(I27-H27)*24*3600,0) -> 0 | K27: =J27*F27 -> 0 | L27: {=K27-MIN(IF(K19:K31>0,(K19:K31)))} -> -2301.068 | M27: =IF(J27>0,$H$6/J27*3600,0) -> 0 | N27: =IF(K27>0,M27/F27,0) -> 0 | O27: =RANK(K27,$K$19:$K$31,1)-COUNTIF($K$19:$K$31,0) -> -6
A28: 10 | B28: =Sammanställning!B18 -> 0 | E28: =Sammanställning!C18 -> 0 | J28: =IF(I28>0,(I28-H28)*24*3600,0) -> 0 | K28: =J28*F28 -> 0 | L28: {=K28-MIN(IF(K19:K31>0,(K19:K31)))} -> -2301.068 | M28: =IF(J28>0,$H$6/J28*3600,0) -> 0 | N28: =IF(K28>0,M28/F28,0) -> 0 | O28: =RANK(K28,$K$19:$K$31,1)-COUNTIF($K$19:$K$31,0) -> -6
A29: 11 | B29: =Sammanställning!B19 -> 0 | E29: =Sammanställning!C19 -> 0 | J29: =IF(I29>0,(I29-H29)*24*3600,0) -> 0 | K29: =J29*F29 -> 0 | L29: {=K29-MIN(IF(K19:K31>0,(K19:K31)))} -> -2301.068 | M29: =IF(J29>0,$H$6/J29*3600,0) -> 0 | N29: =IF(K29>0,M29/F29,0) -> 0 | O29: =RANK(K29,$K$19:$K$31,1)-COUNTIF($K$19:$K$31,0) -> -6
A30: 12 | B30: =Sammanställning!B20 -> 0 | E30: =Sammanställning!C20 -> 0 | J30: =IF(I30>0,(I30-H30)*24*3600,0) -> 0 | K30: =J30*F30 -> 0 | L30: {=K30-MIN(IF(K19:K31>0,(K19:K31)))} -> -2301.068 | M30: =IF(J30>0,$H$6/J30*3600,0) -> 0 | N30: =IF(K30>0,M30/F30,0) -> 0 | O30: =RANK(K30,$K$19:$K$31,1)-COUNTIF($K$19:$K$31,0) -> -6
A31: 13 | B31: =Sammanställning!B21 -> 0 | E31: =Sammanställning!C21 -> 0 | J31: =IF(I31>0,(I31-H31)*24*3600,0) -> 0 | K31: =J31*F31 -> 0 | L31: {=K31-MIN(IF(K19:K31>0,(K19:K31)))} -> -2301.068 | M31: =IF(J31>0,$H$6/J31*3600,0) -> 0 | N31: =IF(K31>0,M31/F31,0) -> 0 | O31: =RANK(K31,$K$19:$K$31,1)-COUNTIF($K$19:$K$31,0) -> -6

Sheet Segl 9
G2: =Sammanställning!G2 -> HSS Torsdagscup 2026
G3: Seglingsprotokoll 9
A5: Segling nummer: | C5: 9 | E5: Aktuell bana: | H5: A-E-F-D-G-F-E-A | K5: Vindförhållanden
A6: Tävlingsledare: | C6: Segelbåtsektionen | E6: Banlängd: | H6: 3.31 | I6: (Nm) | K6: Riktning
A7: Datum: | C7: 46261 | E7: Möjliga | G7: Startlinje boj: | I7: A | K7: Styrka | O7: (m/s)
A8: Starttid: | C8: 0.76388889 | E8: rundningsmärken | K8: Anm
K9: Fart och seglingstid
A10: Segling genomförd | C10: JA | G10: Björköarna: | I10: D | L10: Fart | M10: (knop) | N10: Tid | O10: (min)
