Workbook

Sheet Sammanställning
G2: =Protokoll!D1 -> HSS Klubbmästerskap 2026
G3: Resultatlista
A5: Tävlingsledare: | C5: =Protokoll!C5 -> Torbjörn Herbertsson | F5: Starttid Segling 1: | I5: 0.74652778
C6: =Protokoll!C6 -> 0 | F6: Starttid Segling 2: | I6: 0.77777778
A7: Datum: | C7: 46189 | F7: Starttid Segling 3: | I7: 0.80902778
A9: Nr | B9: Rorsman | C9: Gast 1 | D9: Gast 2 | E9: Båt | F9: SRS | G9: Utr | H9: Segl | I9: Seglad | J9: Korrigerad | K9: Tids | L9: Plats | M9: Total | N9: Slutlig
G10: Korr | H10: nr | I10: tid | J10: tid | K10: diff | L10: i | M10: Poäng | N10: placering
I11: (hh:mm:ss) | J11: (hh:mm:ss) | K11: (min:sek) | L11: segling
C12: =Protokoll!C12 -> 0 | E12: =Protokoll!E12 -> 0 | G12: =Protokoll!H12 -> 1371.44 | H12: 1 | I12: =(Protokoll!J12-Protokoll!J$5) -> 0.018287037 | J12: =I12*F$13 -> 0.015873148 | K12: =(J12-MIN(J$12,J$15,J$18,J$21,J24,J27,J30,J33,J36,J39)) -> 0.0018384722 | L12: 3 | N12: 2
A13: 1 | B13: =Protokoll!B13 -> Staffan Kerker | C13: =Protokoll!C13 -> Rickard Magnusson | E13: =Protokoll!E13 -> 707 | F13: =Protokoll!F13 -> 0.868 | G13: =Protokoll!H13 -> 1531.152 | H13: 2 | I13: =(Protokoll!J13-Protokoll!J$6) -> 0.020416667 | J13: =I13*F$13 -> 0.017721667 | K13: =(J13-MIN(J$13,J$16,J$19,J$22,J25,J28,J31,J34,J37,J40)) -> 0.00052240741 | L13: 2 | M13: =SUM(L12:L14) -> 7
E14: =Protokoll!E14 -> 0 | G14: =Protokoll!H14 -> 1110.172 | H14: 3 | I14: =(Protokoll!J14-Protokoll!J$7) -> 0.014803241 | J14: =I14*F$13 -> 0.012849213 | K14: =(J14-MIN(J$14,J$17,,J20,J$23,J26,J$29,J32,J35,J38,J41)) -> 0.012849213 | L14: 2
D15: =Protokoll!D15 -> 0 | E15: =Protokoll!E15 -> 0 | G15: =Protokoll!H15 -> 1312.416 | H15: 1 | I15: =(Protokoll!J15-Protokoll!J$5) -> 0.0175 | J15: =I15*F$16 -> 0.01519 | K15: =(J15-MIN(J$12,J$15,J$18,J$21,J24,J27,J30,J33,J36,J39)) -> 0.0011553241 | L15: 2 | N15: 3
A16: 2 | B16: =Protokoll!B16 -> Urban Thim | C16: =Protokoll!C16 -> Olivia Thim | D16: =Protokoll!D16 -> 0 | E16: =Protokoll!E16 -> 707 | F16: =Protokoll!F16 -> 0.868 | G16: =Protokoll!H16 -> 1534.624 | H16: 2 | I16: =(Protokoll!J16-Protokoll!J$6) -> 0.020462963 | J16: =I16*F$16 -> 0.017761852 | K16: =(J16-MIN(J$13,J$16,J$19,J$22,J25,J28,J31,J34,J37,J40)) -> 0.00056259259 | L16: 3 | M16: =SUM(L15:L17) -> 8
E17: =Protokoll!E17 -> 0 | G17: =Protokoll!H17 -> 1139.684 | H17: 3 | I17: =(Protokoll!J17-Protokoll!J$7) -> 0.015196759 | J17: =I17*F$16 -> 0.013190787 | K17: =(J17-MIN(J$14,J$17,J$20,J$23,J26,J29,J32,J35,J38,J41)) -> 0.00089412037 | L17: 3
B18: =Protokoll!B18 -> 0 | C18: =Protokoll!C18 -> 0 | D18: =Protokoll!D18 -> 0 | E18: =Protokoll!E18 -> 0 | G18: =Protokoll!H18 -> 1212.596 | H18: 1 | I18: =(Protokoll!J18-Protokoll!J$5) -> 0.016168981 | J18: =I18*F$19 -> 0.014034676 | K18: =(J18-MIN(J$12,J$15,J$18,J$21,J24,J27,J30,J33,J36,J39)) -> 0 | L18: 1 | N18: 1
A19: 3 | B19: =Protokoll!B19 -> Torbjörn Herbertsson | C19: =Protokoll!C19 -> Håklan Stödberg | D19: =Protokoll!D19 -> 0 | E19: =Protokoll!E19 -> 707 | F19: =Protokoll!F19 -> 0.868 | G19: =Protokoll!H19 -> 1486.016 | H19: 2 | I19: =(Protokoll!J19-Protokoll!J$6) -> 0.019814815 | J19: =I19*F$19 -> 0.017199259 | K19: =(J19-MIN(J$13,J$16,J$19,J$22,J25,J28,J31,J34,J37,J40)) -> 0 | L19: 1 | M19: =SUM(L18:L20) -> 3
E20: =Protokoll!E20 -> 0 | G20: =Protokoll!H20 -> 1062.432 | H20: 3 | I20: =(Protokoll!J20-Protokoll!J$7) -> 0.014166667 | J20: =I20*F$19 -> 0.012296667 | K20: =(J20-MIN(J$14,J$17,J$20,J$23,J26,J29,J32,J35,J38,J41)) -> 0 | L20: 1
B21: =Protokoll!B21 -> 0 | C21: =Protokoll!C21 -> 0 | D21: =Protokoll!D21 -> 0 | E21: =Protokoll!E21 -> 0 | G21: =Protokoll!H21 -> 1473.96 | H21: 1 | I21: =(Protokoll!J21-Protokoll!J$5) -> 0.020023148 | J21: =I21*F$22 -> 0.017059722 | K21: =(J21-MIN(J$12,J$15,J$18,J$21,J24,J27,J30,J33,J36,J39)) -> 0.0030250463 | L21: 4 | N21: 5
A22: 4 | B22: =Protokoll!B22 -> Lars Berglund | C22: =Protokoll!C22 -> Claes Johansson | D22: =Protokoll!D22 -> 0 | E22: =Protokoll!E22 -> Maxi Magic | F22: =Protokoll!F22 -> 0.852 | G22: =Protokoll!H22 -> 1589.832 | H22: 2 | I22: =(Protokoll!J22-Protokoll!J$6) -> 0.021597222 | J22: =I22*F$22 -> 0.018400833 | K22: =(J22-MIN(J$13,J$16,J$19,J$22,J25,J28,J31,J34,J37,J40)) -> 0.0012015741 | L22: 5 | M22: =SUM(L21:L23) -> 14
E23: =Protokoll!E23 -> 0 | G23: =Protokoll!H23 -> 1182.576 | H23: 3 | I23: =(Protokoll!J23-Protokoll!J$7) -> 0.016018519 | J23: =I23*F$22 -> 0.013647778 | K23: =(J23-MIN(J$14,J$17,J$20,J$23,J26,J29,J32,J35,J38,J41)) -> 0.0013511111 | L23: 5
B24: =Protokoll!B24 -> 0 | C24: =Protokoll!C24 -> 0 | D24: =Protokoll!D24 -> 0 | E24: =Protokoll!E24 -> 0 | G24: =Protokoll!H24 -> 1492.98 | H24: 1 | I24: =(Protokoll!J24-Protokoll!J$5) -> 0.023194444 | J24: =I24*F$25 -> 0.017279861 | K24: =(J24-MIN(J$12,J$15,J$18,J$21,J27,J30,J33,J36,J39)) -> 0.0032451852 | L24: 5 | N24: 4
A25: 5 | B25: =Protokoll!B25 -> Ingmar Olsson | C25: =Protokoll!C25 -> 0 | D25: =Protokoll!D25 -> 0 | E25: =Protokoll!E25 -> Avanti | F25: =Protokoll!F25 -> 0.745 | G25: =Protokoll!H25 -> 1542.15 | H25: 2 | I25: =(Protokoll!J25-Protokoll!J$6) -> 0.023958333 | J25: =I25*F$25 -> 0.017848958 | K25: =(J25-MIN(J$13,J$16,J$19,J$22,J28,J31,J34,J37,J40)) -> 0.00064969907 | L25: 4 | M25: =SUM(L24:L26) -> 13
E26: =Protokoll!E26 -> 0 | G26: =Protokoll!H26 -> 1145.81 | H26: 3 | I26: =(Protokoll!J26-Protokoll!J$7) -> 0.017800926 | J26: =I26*F$25 -> 0.01326169 | K26: =(J26-MIN(J$14,J$17,J$20,J$23,J29,J32,J35,J38,J41)) -> 0.00096502315 | L26: 4
G27: =Protokoll!H27 -> 1677.54 | H27: 1 | I27: =(Protokoll!J27-Protokoll!J$5) -> 0.025347222 | J27: =I27*F$25 -> 0.018883681 | K27: =(J27-MIN(J$12,J$15,J$18,J$21,J24,J30,J33,J36,J39)) -> 0.0048490046 | L27: 6 | N27: 6
A28: 6 | B28: =Protokoll!B28 -> Magnus Nilsson | E28: =Protokoll!E28 -> Viggen | F28: =Protokoll!F28 -> 0.766 | G28: =Protokoll!H28 -> 1677.54 | H28: 2 | I28: =(Protokoll!J28-Protokoll!J$6) -> 0.025347222 | J28: =I28*F$25 -> 0.018883681 | K28: =(J28-MIN(J$13,J$16,J$19,J$22,J25,J31,J34,J37,J40)) -> 0.0016844213 | L28: 6 | M28: =SUM(L27:L29) -> 18
G29: =Protokoll!H29 -> 1294.54 | H29: 3 | I29: =(Protokoll!J29-Protokoll!J$7) -> 0.019560185 | J29: =I29*F$25 -> 0.014572338 | K29: =(J29-MIN(J$14,J$17,J$20,J$23,J26,J32,J35,J38,J41)) -> 0.0022756713 | L29: 6
H30: 1 | K30: =(J30-MIN(J$12,J$15,J$18,J$21,J24,J27,J33,J36,J39)) -> -0.014034676
A31: 7 | H31: 2 | K31: =(J31-MIN(J$13,J$16,J$19,J$22,J25,J28,J34,J37,J40)) -> -0.017199259
H32: 3 | K32: =(J32-MIN(J$14,J$17,J$20,J$23,J26,J29,J35,J38,J41)) -> -0.012296667
H33: 1 | K33: =(J33-MIN(J$12,J$15,J$18,J$21,J24,J27,J30,J36,J39)) -> -0.014034676
A34: 8 | H34: 2 | K34: =(J34-MIN(J$13,J$16,J$19,J$22,J25,J28,J31,J37,J40)) -> -0.017199259
H35: 3 | K35: =(J35-MIN(J$14,J$17,J$20,J$23,J26,J29,J32,J38,J41)) -> -0.012296667
H36: 1 | K36: =(J36-MIN(J$12,J$15,J$18,J$21,J24,J27,J30,J33,J39)) -> -0.014034676
A37: 9 | H37: 2 | K37: =(J37-MIN(J$13,J$16,J$19,J$22,J25,J28,J31,J34,J40)) -> -0.017199259
H38: 3 | K38: =(J38-MIN(J$14,J$17,J$20,J26,J29,J$23,J32,J35,J41)) -> -0.012296667
H39: 1 | K39: =(J39-MIN(J$12,J$15,J$18,J$21,J24,J27,J30,J33,J36)) -> -0.014034676
A40: 10 | H40: 2 | K40: =(J40-MIN(J$13,J$16,J$19,J$22,J25,J28,J31,J34,J37)) -> -0.017199259
H41: 3 | K41: =(J41-MIN(J$14,J$17,J$20,J$23,J26,J29,J32,J35,J38)) -> -0.012296667

Sheet Protokoll
D1: HSS Klubbmästerskap 2026
D2: Protokoll
A5: Tävlingsledare: | C5: Torbjörn Herbertsson | F5: Starttid Segling 1: | J5: 0.74652778
F6: Starttid Segling 2: | J6: 0.77777778
A7: Datum: | C7: 46189 | F7: Starttid Segling 3: | J7: 0.80902778
A9: Nr | B9: Rorsman | C9: Gast 1 | D9: Gast 2 | E9: Båt | F9: SRS | G9: Seglad | H9: Utr | I9: Segl | J9: Målgång
G10: Tid | H10: Korr | I10: nr | J10: Klockslag
J11: (hh:mm:ss)
G12: 1580 | H12: =(G12*F13) -> 1371.44 | I12: 1 | J12: 0.76481481
A13: 1 | B13: Staffan Kerker | C13: Rickard Magnusson | E13: 707 | F13: 0.868 | G13: 1764 | H13: =(G13*F13) -> 1531.152 | I13: 2 | J13: 0.79819444
G14: 1279 | H14: =(G14*F13) -> 1110.172 | I14: 3 | J14: 0.82383102
G15: 1512 | H15: =(G15*F16) -> 1312.416 | I15: 1 | J15: 0.76402778
A16: 2 | B16: Urban Thim | C16: Olivia Thim | E16: 707 | F16: 0.868 | G16: 1768 | H16: =(G16*F16) -> 1534.624 | I16: 2 | J16: 0.79824074
G17: 1313 | H17: =(G17*F16) -> 1139.684 | I17: 3 | J17: 0.82422454
G18: 1397 | H18: =(G18*F19) -> 1212.596 | I18: 1 | J18: 0.76269676
A19: 3 | B19: Torbjörn Herbertsson | C19: Håklan Stödberg | E19: 707 | F19: 0.868 | G19: 1712 | H19: =(G19*F19) -> 1486.016 | I19: 2 | J19: 0.79759259
G20: 1224 | H20: =(G20*F19) -> 1062.432 | I20: 3 | J20: 0.82319444
G21: 1730 | H21: =(G21*F22) -> 1473.96 | I21: 1 | J21: 0.76655093
A22: 4 | B22: Lars Berglund | C22: Claes Johansson | E22: Maxi Magic | F22: 0.852 | G22: 1866 | H22: =(G22*F22) -> 1589.832 | I22: 2 | J22: 0.799375
G23: 1388 | H23: =(G23*F22) -> 1182.576 | I23: 3 | J23: 0.8250463
G24: 2004 | H24: =(G24*F25) -> 1492.98 | I24: 1 | J24: 0.76972222
A25: 5 | B25: Ingmar Olsson | E25: Avanti | F25: 0.745 | G25: 2070 | H25: =(G25*F25) -> 1542.15 | I25: 2 | J25: 0.80173611
G26: 1538 | H26: =(G26*F25) -> 1145.81 | I26: 3 | J26: 0.8268287
G27: 2190 | H27: =(G27*F28) -> 1677.54 | I27: 1 | J27: 0.771875
A28: 6 | B28: Magnus Nilsson | E28: Viggen | F28: 0.766 | G28: 2190 | H28: =(G28*F28) -> 1677.54 | I28: 2 | J28: 0.803125
G29: 1690 | H29: =(G29*F28) -> 1294.54 | I29: 3 | J29: 0.82858796
H30: =(G30*F31) -> 0 | I30: 1
A31: 7 | H31: =(G31*F31) -> 0 | I31: 2
H32: =(G32*F31) -> 0 | I32: 3
H33: =(G33*F34) -> 0 | I33: 1
A34: 8 | H34: =(G34*F34) -> 0 | I34: 2
H35: =(G35*F34) -> 0 | I35: 3
H36: =(G36*F37) -> 0 | I36: 1
A37: 9 | H37: =(G37*F37) -> 0 | I37: 2
H38: =(G38*F37) -> 0 | I38: 3
H39: =(G39*F40) -> 0 | I39: 1
A40: 10 | H40: =(G40*F40) -> 0 | I40: 2
H41: =(G41*F40) -> 0 | I41: 3
